BEGIN:VCALENDAR
VERSION:2.0
PRODID:-//ChamberMaster//Event Calendar 2.0//EN
METHOD:PUBLISH
X-PUBLISHED-TTL:P3D
REFRESH-INTERVAL:P3D
CALSCALE:GREGORIAN
BEGIN:VEVENT
DTSTART:20140522T213000Z
DTEND:20140522T230000Z
X-MICROSOFT-CDO-ALLDAYEVENT:FALSE
SUMMARY:2014 Ribbon Cutting and Open House- GKG & Associates
DESCRIPTION:Please join us for a Ribbon Cutting and Open House for GKG & Associates.\n\n\n\nThey will be serving wine\, cheese\, crackers\, fruit and small sandwiches. There will also be giveaways!
X-ALT-DESC;FMTTYPE=text/html:Please join us for a Ribbon Cutting and Open House for GKG &amp\; Associates.<br />\n<br />\nThey will be serving wine\, cheese\, crackers\, fruit and small sandwiches. There will also be giveaways!<br />\n&nbsp\;
LOCATION:6028 South 66th East Avenue Tulsa\, OK 74145
UID:e.1611.1362
SEQUENCE:3
DTSTAMP:20260420T214138Z
URL:https://portal.bixbychamber.com/events/details/2014-ribbon-cutting-and-open-house-gkg-associates-05-22-2014-1362
END:VEVENT

END:VCALENDAR
