BEGIN:VCALENDAR
VERSION:2.0
PRODID:-//ChamberMaster//Event Calendar 2.0//EN
METHOD:PUBLISH
X-PUBLISHED-TTL:P3D
REFRESH-INTERVAL:P3D
CALSCALE:GREGORIAN
BEGIN:VEVENT
DTSTART:20140731T213000Z
DTEND:20140731T230000Z
X-MICROSOFT-CDO-ALLDAYEVENT:FALSE
SUMMARY:2014 Ribbon Cutting and Open House- Carbon Pilates Tulsa South
DESCRIPTION:Please join us for a ribbon cutting welcoming Carbon Pilates Tulsa South to the chamber.
X-ALT-DESC;FMTTYPE=text/html:Please join us for a ribbon cutting welcoming Carbon Pilates Tulsa South to the chamber.
LOCATION:Carbon Pilates Tulsa South 9118 South Sheridan Road Tulsa\, OK 74133
UID:e.1611.1396
SEQUENCE:3
DTSTAMP:20260420T184457Z
URL:https://portal.bixbychamber.com/events/details/2014-ribbon-cutting-and-open-house-carbon-pilates-tulsa-south-07-31-2014-1396
END:VEVENT

END:VCALENDAR
