BEGIN:VCALENDAR
VERSION:2.0
PRODID:-//ChamberMaster//Event Calendar 2.0//EN
METHOD:PUBLISH
X-PUBLISHED-TTL:P3D
REFRESH-INTERVAL:P3D
CALSCALE:GREGORIAN
BEGIN:VEVENT
DTSTART:20140403T213000Z
DTEND:20140403T220000Z
X-MICROSOFT-CDO-ALLDAYEVENT:FALSE
SUMMARY:2014 Ribbon Cutting and Open House- Block Business Solutions
DESCRIPTION:Block Business Solutions invites you to help them\n\ncelebrate their 10 years with Sprint!\n\nMeet their staff and enjoy refreshments.\n\nThey'll have door prizes\, too!
X-ALT-DESC;FMTTYPE=text/html:<span style="font-family:arial\,sans-serif\;">Block Business Solutions invites you to help them</span><br />\n<span style="font-family:arial\,sans-serif\;">celebrate their 10 years with Sprint!</span><br />\n<span style="font-family:arial\,sans-serif\;">Meet their staff and enjoy refreshments.<br />\nThey&#39\;ll have door prizes\, too!</span>
LOCATION:Block Business Solutions 4444 East 66th Street Suite 225 Tulsa\, OK 74136
UID:e.1611.1345
SEQUENCE:3
DTSTAMP:20260420T225532Z
URL:https://portal.bixbychamber.com/events/details/2014-ribbon-cutting-and-open-house-block-business-solutions-04-03-2014-1345
END:VEVENT

END:VCALENDAR
