BEGIN:VCALENDAR
VERSION:2.0
PRODID:-//ChamberMaster//Event Calendar 2.0//EN
METHOD:PUBLISH
X-PUBLISHED-TTL:P3D
REFRESH-INTERVAL:P3D
CALSCALE:GREGORIAN
BEGIN:VEVENT
DTSTART:20140207T163000Z
DTEND:20140207T164500Z
X-MICROSOFT-CDO-ALLDAYEVENT:FALSE
SUMMARY:2014 Ribbon Cutting and Grand Opening- Communication Federal Credit Union
DESCRIPTION:Special Grand Opening Week Offers: \n\n\n	$100 when you open a savings and checking account with direct deposit*\n	$200 when you open a savings and checking account with direct deposit and a booked loan over $5\,000*\n\nGrand Opening Day Events:\n\n\n	11 am to 1 pm   Catered hors d'oeuvres\n	1 pm to 5 pm - Cokes and cookies\n	11 am to 5 pm - Prize registration and drawings (Big screen TV\, iPad Air\, gift certificates and more!)\n\nPlease call the Bixby branch at 918.943.3229 if you have any questions about the Grand Opening or the special offers.\n\nAll offers subject to credit union approval. Restrictions may apply.\n\n*Valid for new members only. Offer valid from 2/3/14 thru 3/7/14. Rewards for checking and savings will be disbursed when account is opened. Rewards for loans disbursed when loan is approved and booked.
X-ALT-DESC;FMTTYPE=text/html:<strong><span style="font-family:times new roman\,serif\;"><span style="font-size:12.0pt\;">Special Grand Opening Week Offers: </span></span></strong>\n\n<ul>\n	<li><span style="font-family:times new roman\,serif\;"><span style="font-size:12.0pt\;">$100 when you open a savings and checking account with direct deposit*</span></span></li>\n	<li><span style="font-family:times new roman\,serif\;"><span style="font-size:12.0pt\;">$200 when you open a savings and checking account with direct deposit and a booked loan over $5\,000*</span></span></li>\n</ul>\n<strong><span style="font-family:times new roman\,serif\;"><span style="font-size:12.0pt\;">Grand Opening Day Events:</span></span></strong>\n\n<ul>\n	<li><span style="font-family:times new roman\,serif\;"><span style="font-size:12.0pt\;">11 am to 1 pm &ndash\; Catered hors d&#39\;oeuvres</span></span></li>\n	<li><span style="font-family:times new roman\,serif\;"><span style="font-size:12.0pt\;">1 pm to 5 pm - Cokes and cookies</span></span></li>\n	<li><span style="font-family:times new roman\,serif\;"><span style="font-size:12.0pt\;">11 am to 5 pm - Prize registration and drawings (Big screen TV\, iPad Air\, gift certificates and more!)</span></span></li>\n</ul>\n<span style="font-family:times new roman\,serif\;"><span style="font-size:12.0pt\;">Please call the Bixby branch at 918.943.3229 if you have any questions about the Grand Opening or the special offers.</span></span><br />\n<em><span style="font-family:times new roman\,serif\;"><span style="font-size:12.0pt\;">All offers subject to credit union approval. Restrictions may apply.<br />\n*Valid for new members only. Offer valid from 2/3/14 thru 3/7/14. Rewards for checking and savings will be disbursed when account is opened. Rewards for loans disbursed when loan is approved and booked.</span></span></em><br />\n&nbsp\;
LOCATION:Communication Federal Credit Union 11894 South Memorial Drive Bixby\, OK 74008
UID:e.1611.1246
SEQUENCE:3
DTSTAMP:20260421T012414Z
URL:https://portal.bixbychamber.com/events/details/2014-ribbon-cutting-and-grand-opening-communication-federal-credit-union-02-07-2014-1246
END:VEVENT

END:VCALENDAR
