BEGIN:VCALENDAR
VERSION:2.0
PRODID:-//ChamberMaster//Event Calendar 2.0//EN
METHOD:PUBLISH
X-PUBLISHED-TTL:P3D
REFRESH-INTERVAL:P3D
CALSCALE:GREGORIAN
BEGIN:VEVENT
DTSTART:20140813T150000Z
DTEND:20140816T170000Z
X-MICROSOFT-CDO-ALLDAYEVENT:FALSE
SUMMARY:2014 Rhea Lana's Children's Consignment Event
DESCRIPTION:Rhea Lana's Children's Consignment Event is a premier children's consignment event focusing on high-quality clothing from maternity to junior sizes.  They also carry baby equipment\, toys\, books\, games\, shoes\, home decor\, and much more!
X-ALT-DESC;FMTTYPE=text/html:Rhea Lana&#39\;s Children&#39\;s Consignment Event is a premier children&#39\;s consignment event focusing on high-quality clothing from maternity to junior sizes. &nbsp\;They also carry baby equipment\, toys\, books\, games\, shoes\, home decor\, and much more! &nbsp\;
LOCATION:The Spirit Bank Event Center Arena
UID:e.1611.1417
SEQUENCE:3
DTSTAMP:20260420T172514Z
URL:https://portal.bixbychamber.com/events/details/2014-rhea-lana-s-children-s-consignment-event-08-13-2014-1417
END:VEVENT

END:VCALENDAR
