BEGIN:VCALENDAR
VERSION:2.0
PRODID:-//ChamberMaster//Event Calendar 2.0//EN
METHOD:PUBLISH
X-PUBLISHED-TTL:P3D
REFRESH-INTERVAL:P3D
CALSCALE:GREGORIAN
BEGIN:VEVENT
DTSTART;VALUE=DATE:20150215
DTEND;VALUE=DATE:20150222
TRANSP:TRANSPARENT
X-MICROSOFT-CDO-ALLDAYEVENT:TRUE
SUMMARY:2014 Rhea Lana's Children's Consignment Event
DESCRIPTION:
X-ALT-DESC;FMTTYPE=text/html:
LOCATION:The Spirit Bank Event Center : Regal (106th) & Memorial Inside the Spirit Bank Event Center
UID:e.1611.1554
SEQUENCE:3
DTSTAMP:20260422T084136Z
URL:https://portal.bixbychamber.com/events/details/2014-rhea-lana-s-children-s-consignment-event-02-15-2015-1554
END:VEVENT

END:VCALENDAR
