BEGIN:VCALENDAR
VERSION:2.0
PRODID:-//ChamberMaster//Event Calendar 2.0//EN
METHOD:PUBLISH
X-PUBLISHED-TTL:P3D
REFRESH-INTERVAL:P3D
CALSCALE:GREGORIAN
BEGIN:VEVENT
DTSTART:20140722T233000Z
DTEND:20140723T003000Z
X-MICROSOFT-CDO-ALLDAYEVENT:FALSE
SUMMARY:2014 Retirement Planning Seminar
DESCRIPTION:We are pleased to invite you to our Retirement Planning Seminar we are hosting in July at our office. We will address several topics including how Social Security fits into your retirement planning and what you are able to do now to insure that you maximize your income in your retirement years. The meeting will be from 6:30pm to 7:30pm on July 22nd 2014. Please RSVP by July 18. \n\nLeave your checkbook at home\, there is nothing to buy.
X-ALT-DESC;FMTTYPE=text/html:<span style="font-family:arial\;"><span style="color:navy\;">We are pleased to invite you to our Retirement Planning Seminar we are hosting in July at our office. We will address several topics including how Social Security fits into your retirement planning and what you are able to do now to insure that you maximize your income in your retirement years. The meeting will be from 6:30pm to 7:30pm on July&nbsp\;22nd 2014. Please RSVP by July 18.&nbsp\;</span></span><br />\n<span style="color:navy\;"><span style="font-family:courier new\;"><span style="font-family:arial\;">Leave your checkbook at home\, there is nothing to buy.</span>&nbsp\;</span></span><br />\n<br />\n&nbsp\;
LOCATION:Harden Agency 1660 East 71st Street Suite 2A Tulsa\, OK
UID:e.1611.1407
SEQUENCE:3
DTSTAMP:20260420T184055Z
URL:https://portal.bixbychamber.com/events/details/2014-retirement-planning-seminar-07-22-2014-1407
END:VEVENT

END:VCALENDAR
