BEGIN:VCALENDAR
VERSION:2.0
PRODID:-//ChamberMaster//Event Calendar 2.0//EN
METHOD:PUBLISH
X-PUBLISHED-TTL:P3D
REFRESH-INTERVAL:P3D
CALSCALE:GREGORIAN
BEGIN:VEVENT
DTSTART:20141101T000000Z
DTEND:20141101T020000Z
X-MICROSOFT-CDO-ALLDAYEVENT:FALSE
SUMMARY:2014 Residential Haunted House
DESCRIPTION:Residential haunted garage. Enjoy a thrill while making your candy rounds. All welcome\, but we don't advice the youngsters to pass through this haunted maze. There will be candy for the little ones outside. Come see the mad doctor\, witch's potion room\, zombies and more!
X-ALT-DESC;FMTTYPE=text/html:Residential haunted garage. Enjoy a thrill while making your candy rounds. All welcome\, but we don&#39\;t advice the youngsters to pass through this haunted maze. There will be candy for the little ones outside. Come see the mad doctor\, witch&#39\;s potion room\, zombies and more!&nbsp\;
LOCATION:8830 E 139th Street South\, in SouthBridge\, Bixby
UID:e.1611.1414
SEQUENCE:3
DTSTAMP:20260420T145219Z
URL:https://portal.bixbychamber.com/events/details/2014-residential-haunted-house-10-31-2014-1414
END:VEVENT

END:VCALENDAR
