BEGIN:VCALENDAR
VERSION:2.0
PRODID:-//ChamberMaster//Event Calendar 2.0//EN
METHOD:PUBLISH
X-PUBLISHED-TTL:P3D
REFRESH-INTERVAL:P3D
CALSCALE:GREGORIAN
BEGIN:VEVENT
DTSTART:20140508T230000Z
DTEND:20140509T000000Z
X-MICROSOFT-CDO-ALLDAYEVENT:FALSE
SUMMARY:2014 Reality Party
DESCRIPTION:Come participate in a free\, interactive town hall meeting to learn what you can do to prevent underage drinking. Anyone can help\; everyone is needed. The audience will witness a reality party performed by the Bixby Interact Club\, hear form speakers\, and participate in a discussion about:\n\n	Consequences about underage drinking\n	Dangers of binge drinking\n	What parents and teens need to know about Oklahoma's Social Host law.\n\nOpen to the public. Teens and parents welcome. Free food for attendees!
X-ALT-DESC;FMTTYPE=text/html:Come participate in a free\, interactive town hall meeting to learn what you can do to prevent underage drinking. Anyone can help\; everyone is needed. The audience will witness a reality party performed by the Bixby Interact Club\, hear form speakers\, and participate in a discussion about:\n<ul>\n	<li>Consequences about underage drinking</li>\n	<li>Dangers of binge drinking</li>\n	<li>What parents and teens need to know about Oklahoma&#39\;s Social Host law.</li>\n</ul>\nOpen to the public. Teens and parents welcome. Free food for attendees!
LOCATION:Bixby High School Auditorium 601 South Riverview Drive Bixby\, OK 74008
UID:e.1611.1364
SEQUENCE:3
DTSTAMP:20260420T213611Z
URL:https://portal.bixbychamber.com/events/details/2014-reality-party-05-08-2014-1364
END:VEVENT

END:VCALENDAR
