BEGIN:VCALENDAR
VERSION:2.0
PRODID:-//ChamberMaster//Event Calendar 2.0//EN
METHOD:PUBLISH
X-PUBLISHED-TTL:P3D
REFRESH-INTERVAL:P3D
CALSCALE:GREGORIAN
BEGIN:VEVENT
DTSTART:20140228T000000Z
DTEND:20140228T030000Z
X-MICROSOFT-CDO-ALLDAYEVENT:FALSE
SUMMARY:2014 Real Skinny Life Coach Open House
DESCRIPTION:Come see the new office of Real Skinny Life Coach- Erin Garcia\n\nDrop in between 6:00-9:00 PM\n\n\n\nGrand Opening toast at 7:00 PM\n\n\n\nRefreshments will be provided
X-ALT-DESC;FMTTYPE=text/html:Come see the new office of Real Skinny Life Coach- Erin Garcia<br />\nDrop in between 6:00-9:00 PM<br />\n<br />\nGrand Opening toast at 7:00 PM<br />\n<br />\nRefreshments will be provided
LOCATION:8516 East 101st Street Suite G Tulsa\, OK 74133
UID:e.1611.1333
SEQUENCE:3
DTSTAMP:20260421T012322Z
URL:https://portal.bixbychamber.com/events/details/2014-real-skinny-life-coach-open-house-02-27-2014-1333
END:VEVENT

END:VCALENDAR
