BEGIN:VCALENDAR
VERSION:2.0
PRODID:-//ChamberMaster//Event Calendar 2.0//EN
METHOD:PUBLISH
X-PUBLISHED-TTL:P3D
REFRESH-INTERVAL:P3D
CALSCALE:GREGORIAN
BEGIN:VEVENT
DTSTART:20141113T220000Z
DTEND:20141114T000000Z
X-MICROSOFT-CDO-ALLDAYEVENT:FALSE
SUMMARY:2014 Rausch Coleman Homes Grand Opening
DESCRIPTION:Grand Opening for Rausch Coleman's newest housing addition at the Trails at White Hawk in Bixby on 151st between Sheridan and Yale.
X-ALT-DESC;FMTTYPE=text/html:<span style="font-family:arial\,sans-serif\;"><span style="font-size:10.0pt\;">Grand Opening for Rausch Coleman&#39\;s&nbsp\;newest housing addition at the Trails at White Hawk in Bixby on 151st between Sheridan and Yale.</span></span>
LOCATION:Rausch Coleman Homes 14902 S Hudson Ave Bixby\, OK 74008
UID:e.1611.1468
SEQUENCE:3
DTSTAMP:20260420T150746Z
URL:https://portal.bixbychamber.com/events/details/2014-rausch-coleman-homes-grand-opening-11-13-2014-1468
END:VEVENT

END:VCALENDAR
