BEGIN:VCALENDAR
VERSION:2.0
PRODID:-//ChamberMaster//Event Calendar 2.0//EN
METHOD:PUBLISH
X-PUBLISHED-TTL:P3D
REFRESH-INTERVAL:P3D
CALSCALE:GREGORIAN
BEGIN:VEVENT
DTSTART:20140916T223000Z
DTEND:20140917T010000Z
X-MICROSOFT-CDO-ALLDAYEVENT:FALSE
SUMMARY:2014 Picnic in the Park
DESCRIPTION:The Bixby Metro Chamber's Ambassador Committee hosts this event as a thank you to our investment Partners.\n\n\n\nBring your staff and family and enjoy this relaxed evening of fun in one of Bixby's\n\nmost beautiful settings during the most perfect time of year!\n\n\n\nThe Picnic features music\, a kids zone\, dancing and time to make connections and\n\nbuild relationships. Includes FREE hamburgers\, hotdogs\, soft drinks and door prizes. \n\n\n\nClick Register Online above to sign up for any of the sponsorships below.\n\n\n\nPresenting Sponsor - $ 500              \n\n  Color Logo on Sponsor Banner\n\n  Prominent Recognition on all PR/Marketing\n\n  On Stage Announcement at Event\n\n  Premier Booth Space at the Event\n\n  Business Vehicle Placement at Picnic Location\n\n  Tables Reserved for Sponsors Marketing Materials\n\n \n\nFood & Fun Sponsor - $ 300    \n\n  Color Logo on Sponsor Banner\n\n  Recognition on all PR/Marketing\n\n  Stage Recognition at Event\n\n  Booth Space at the Event\n\nChoose One Area to Sponsor - Music / Kids Zone / Food \n\n \n\nFriends of the Picnic - $ 100    \n\n  Name Recognition on all PR/Marketing\n\n  Stage Recognition at Event\n\n  Booth Space at Event\n\n\n\nClick Register Online above to sign up for any of the sponsorships above.
X-ALT-DESC;FMTTYPE=text/html:The Bixby Metro Chamber&#39\;s Ambassador Committee hosts this event as a thank you to our investment Partners.<br />\n<br />\n<span style="white-space: nowrap\;">Bring your staff and family and enjoy this relaxed evening of fun in one of Bixby&#39\;s<br />\nmost beautiful settings during the most perfect time of year!<br />\n<br />\nThe Picnic features music\, a kids zone\, dancing and time to make connections and<br />\nbuild relationships. Includes FREE hamburgers\, hotdogs\, soft drinks and door prizes.&nbsp\;<br />\n<br />\n<strong>Click Register Online above to sign up for any of the sponsorships below.</strong></span><br />\n<br />\n<span style="font-size:12px\;"><span style="font-family:arial\;"><span style="font-weight:bold\;language:EN\;">Presenting Sponsor - $ 500 &nbsp\; &nbsp\; &nbsp\; &nbsp\; &nbsp\; &nbsp\; &nbsp\;</span><br />\n<span style="direction:ltr\;unicode-bidi:embed\;language:X-NONE\;"><span style="color:black\;">&middot\;</span></span>&nbsp\;Color Logo on Sponsor Banner<br />\n<span style="direction:ltr\;unicode-bidi:embed\;language:X-NONE\;"><span style="color:black\;">&middot\;</span></span>&nbsp\;Prominent Recognition on all PR/Marketing<br />\n<span style="direction:ltr\;unicode-bidi:embed\;language:X-NONE\;"><span style="color:black\;">&middot\;</span></span>&nbsp\;On Stage Announcement at Event<br />\n<span style="direction:ltr\;unicode-bidi:embed\;language:X-NONE\;"><span style="color:black\;">&middot\;</span></span>&nbsp\;Premier Booth Space at the Event<br />\n<span style="direction:ltr\;unicode-bidi:embed\;language:X-NONE\;"><span style="color:black\;">&middot\;</span></span>&nbsp\;Business Vehicle Placement at Picnic Location<br />\n<span style="direction:ltr\;unicode-bidi:embed\;language:X-NONE\;"><span style="color:black\;">&middot\;</span></span>&nbsp\;Tables Reserved for Sponsors Marketing Materials<br />\n&nbsp\;<br />\n<span style="font-weight:bold\;language:EN\;">Food &amp\; Fun Sponsor - $ 300 &nbsp\; &nbsp\;</span><br />\n<span style="direction:ltr\;unicode-bidi:embed\;language:X-NONE\;"><span style="color:black\;">&middot\;</span></span>&nbsp\;Color Logo on Sponsor Banner<br />\n<span style="direction:ltr\;unicode-bidi:embed\;language:X-NONE\;"><span style="color:black\;">&middot\;</span></span>&nbsp\;Recognition on all PR/Marketing<br />\n<span style="direction:ltr\;unicode-bidi:embed\;language:X-NONE\;"><span style="color:black\;">&middot\;</span></span>&nbsp\;Stage Recognition at Event<br />\n<span style="direction:ltr\;unicode-bidi:embed\;language:X-NONE\;"><span style="color:black\;">&middot\;</span></span>&nbsp\;Booth Space at the Event<br />\n<span style="font-weight:bold\;language:EN\;">Choose One Area to Sponsor - Music / Kids Zone / Food </span><br />\n&nbsp\;<br />\n<span style="font-weight:bold\;language:EN\;">Friends of the Picnic - $ 100 &nbsp\; &nbsp\;</span><br />\n<span style="direction:ltr\;unicode-bidi:embed\;language:X-NONE\;"><span style="color:black\;">&middot\;</span></span>&nbsp\;Name Recognition on all PR/Marketing<br />\n<span style="direction:ltr\;unicode-bidi:embed\;language:X-NONE\;"><span style="color:black\;">&middot\;</span></span>&nbsp\;Stage Recognition at Event<br />\n<span style="direction:ltr\;unicode-bidi:embed\;language:X-NONE\;"><span style="color:black\;">&middot\;</span></span>&nbsp\;Booth Space at Event</span></span><br />\n<br />\n<strong style="white-space: nowrap\;">Click Register Online above to sign up for any of the sponsorships above.</strong><br />\n&nbsp\;
LOCATION:Washington Irving Memorial Park and Arboretum 13700 South Memorial Drive Bixby\, OK 74008
UID:e.1611.1299
SEQUENCE:3
DTSTAMP:20260420T160351Z
URL:https://portal.bixbychamber.com/events/details/2014-picnic-in-the-park-09-16-2014-1299
END:VEVENT

END:VCALENDAR
