BEGIN:VCALENDAR
VERSION:2.0
PRODID:-//ChamberMaster//Event Calendar 2.0//EN
METHOD:PUBLISH
X-PUBLISHED-TTL:P3D
REFRESH-INTERVAL:P3D
CALSCALE:GREGORIAN
BEGIN:VEVENT
DTSTART:20140921T193000Z
DTEND:20140921T233000Z
X-MICROSOFT-CDO-ALLDAYEVENT:FALSE
SUMMARY:2014 Oklahoma Blood Institute Blood Drive
DESCRIPTION:Blood donors can show their community and school spirit by donating with Oklahoma Blood Institute (OBI)\, Sunday\, September 21. South Tulsa Baptist Church\, in conjunction with its eleventh annual Car Show\, is sponsoring a blood drive\, 2:30 to 6:30 pm in the church's Gymnasiu\, 10310 S Sheridan Rd\, in Tulsa.  \n\n \n\nEveryone 16* and older is encouraged to donate. Each blood donor  will receive the choice of a free University of Oklahoma or Oklahoma State University OBI blood donor T-shirt and a chance to win a pair of tickets to the 2014 Bedlam football game.**\n\n \n\nCar Show admission is free to view 600 plus antique and classic autos. Donors are invited to contribute a few non-perishable food items to the church's Ministry Center and enjoy tasty grilled hamburgers and hot dogs with all the fixins'.\n\n \n\n"Someone needs blood every two seconds\," said John Armitage\, M.D.\, president and CEO of Oklahoma Blood Institute.  "That is why we are asking everyone to rally their community spirit through blood donation along with their Oklahoma school pride this football season."  \n\n \n\nOklahoma Blood Institute exclusively provides every drop of blood needed by patients in the Saint Francis Health System\, Cancer Treatment Center\, Tulsa Spine and Specialty Hospital\, and Tulsa Life Flight in the Tulsa area. Some 150 other medical facilities across the state rely solely on OBI donors to provide life-saving blood for their patients. \n\n \n\nBecause there is no substitute for blood\, the supply must constantly be renewed. All blood types are needed\, but those with O-negative type blood are especially encouraged to donate. According to the American Association of Blood Banks (AABB)\, only nine in one hundred people in the U.S. have this blood type. However\, O-negative blood can be used for any patient. It is especially needed in emergency situations when a patient's blood type has not yet been determined. \n\n \n\nBlood can be given every 56 days. To find out more or make an appointment to donate\, call 877-340-8777 or schedule online at www.obi.org. \n\n \n\n*16 year olds must weigh at least 125 pounds and provide signed parental permission\; 17 year olds must weigh at least 125 pounds\; 18+ year olds must weigh at least 110 pounds \n\n**Blood donation is voluntary\, and no contribution\, donation\, purchase or payment is necessary to enter prize drawing
X-ALT-DESC;FMTTYPE=text/html:<span style="font-family:arial\,sans-serif\;">Blood donors can show their community and school spirit by donating with Oklahoma Blood Institute (OBI)\, Sunday\, September 21. South Tulsa Baptist Church\, in conjunction with its eleventh annual Car Show\, is sponsoring a blood drive\, 2:30 to 6:30 pm in the church&rsquo\;s Gymnasiu\, 10310 S Sheridan Rd\, in Tulsa.&nbsp\; </span><br />\n&nbsp\;<br />\n<span style="font-family:arial\,sans-serif\;">Everyone 16* and older is encouraged to donate. Each blood donor&nbsp\; will receive the choice of a free University of Oklahoma or Oklahoma State University OBI blood donor T-shirt and a chance to win a pair of tickets to the 2014 Bedlam football game.**</span><br />\n&nbsp\;<br />\n<span style="font-family:arial\,sans-serif\;">Car Show admission is free to view 600 plus antique and classic autos. Donors are invited to contribute a few non-perishable food items to the church&rsquo\;s Ministry Center and enjoy tasty grilled hamburgers and hot dogs with all the fixins&rsquo\;.</span><br />\n&nbsp\;<br />\n<span style="font-family:arial\,sans-serif\;">&ldquo\;<span style="color:black\;">Someone needs blood every two seconds\,&rdquo\;</span> said <span style="color:black\;">John Armitage\, M.D.\, president and CEO of Oklahoma Blood Institute.</span>&nbsp\; &ldquo\;That is why we are asking everyone to rally their community spirit through blood donation along with their Oklahoma school pride this football season.&rdquo\; &nbsp\;</span><br />\n&nbsp\;<br />\n<span style="color:black\;"><span style="font-family:arial\,sans-serif\;">Oklahoma Blood Institute exclusively provides every drop of blood needed by patients in the </span></span><span style="font-family:arial\,sans-serif\;">Saint Francis Health System\, Cancer Treatment Center\, Tulsa Spine and Specialty Hospital\, and Tulsa Life Flight in the Tulsa area. <span style="color:black\;">Some 150 other medical facilities across the state rely solely on OBI donors to provide life-saving blood for their patients. </span></span><br />\n&nbsp\;<br />\n<span style="font-family:arial\,sans-serif\;">Because there is no substitute for blood\, the supply must constantly be renewed. All blood types are needed\, but those with O-negative type blood are especially encouraged to donate. According to the American Association of Blood Banks (AABB)\, only nine in one hundred people in the U.S. have this blood type. However\, O-negative blood can be used for any patient. It is especially needed in emergency situations when a patient&rsquo\;s blood type has not yet been determined. </span><br />\n&nbsp\;<br />\n<span style="font-family:arial\,sans-serif\;">Blood can be given every 56 days. To find out more or make an appointment to donate\, call 877-340-8777 or schedule online at <a href="http://www.obi.org">www.obi.org</a>. </span><br />\n&nbsp\;<br />\n<em><span style="font-family:arial\,sans-serif\;"><span style="font-size:9.0pt\;">*16 year olds must weigh at least 125 pounds and provide signed parental permission\; 17 year olds must weigh at least 125 pounds\; 18+ year olds must weigh at least 110 pounds </span></span></em><br />\n<span style="font-family:arial\,sans-serif\;"><span style="font-size:9.0pt\;">**<em>Blood donation is voluntary\, and no contribution\, donation\, purchase or payment is necessary to enter prize drawing</em></span></span>
LOCATION:South Tulsa Baptist Church 10310 South Sheridan Road
UID:e.1611.1423
SEQUENCE:3
DTSTAMP:20260420T160546Z
URL:https://portal.bixbychamber.com/events/details/2014-oklahoma-blood-institute-blood-drive-09-21-2014-1423
END:VEVENT

END:VCALENDAR
