BEGIN:VCALENDAR
VERSION:2.0
PRODID:-//ChamberMaster//Event Calendar 2.0//EN
METHOD:PUBLISH
X-PUBLISHED-TTL:P3D
REFRESH-INTERVAL:P3D
CALSCALE:GREGORIAN
BEGIN:VEVENT
DTSTART:20141017T163000Z
DTEND:20141017T180000Z
X-MICROSOFT-CDO-ALLDAYEVENT:FALSE
SUMMARY:2014 October Learn Over Lunch
DESCRIPTION:Learn Over Lunch educational program\, partners will mentor other partners on important business skills including personal and professional development\, educational growth and the latest trends and technology. Join us for lunch and take some time out of your day to learn from an expert.\n\n\n\nMake Your Website Work For You\n\n \n\nIs your website a static brochure\, or does it help to make your business more efficient and more profitable? Brookside Studios will be discussing various features for your site that transform it into a vital business tool. Join us to learn about the opportunities you're missing with your current website and how to start capitalizing on them.
X-ALT-DESC;FMTTYPE=text/html:<p><em><em>Learn Over Lunch educational program\, partners will mentor other partners on important business skills including personal and professional development\, educational growth and the latest trends and technology. Join us for lunch and take some time out of your day to learn from an expert</em>.</em><br />\n<br />\nMake Your Website Work For You<br />\n&nbsp\;<br />\nIs your website a static brochure\, or does it help to make your business more efficient and more profitable? Brookside Studios will be discussing various features for your site that transform it into a vital business tool. Join us to learn about the opportunities you&rsquo\;re missing with your current website and how to start capitalizing on them.&nbsp\;<br />\n&nbsp\;</p>\n
LOCATION:Bixby Metro Chamber of Commerce Conference Room 10441 South Regal Boulevard\, Suite 104
UID:e.1611.1322
SEQUENCE:3
DTSTAMP:20260420T144938Z
URL:https://portal.bixbychamber.com/events/details/2014-october-learn-over-lunch-10-17-2014-1322
END:VEVENT

END:VCALENDAR
