BEGIN:VCALENDAR
VERSION:2.0
PRODID:-//ChamberMaster//Event Calendar 2.0//EN
METHOD:PUBLISH
X-PUBLISHED-TTL:P3D
REFRESH-INTERVAL:P3D
CALSCALE:GREGORIAN
BEGIN:VEVENT
DTSTART:20141001T163000Z
DTEND:20141001T180000Z
X-MICROSOFT-CDO-ALLDAYEVENT:FALSE
SUMMARY:2014 October Business@Lunch
DESCRIPTION:The Bixby Metro Chamber Business@Lunch is an opportunity for Investment Partners to network and learn techniques to assist your business. The Business@Lunch series is continuing to grow with typically 150 plus business and community leaders in attendance. Anyone interested is invited to\n\n attend\n\n\n\nHow to Become A Social Media Rock Star\n\nIn this session\, you will learn: \n\n\n	How to build a social media strategy\n	Why a Content Grid is key for success\n	Learn where your customers are on social media\n	How to make social media ads work FOR you\, not against you\n	How to get REAL ROI on your efforts\n\n\n\nSpeaker: Cindy Morrison\n\nSocial Media Strategist
X-ALT-DESC;FMTTYPE=text/html:<span style="color: #808080"><span data-mce-style="color: #ffffff\;"><strong>T</strong></span><span data-mce-style="color: #888888\;">he </span></span><span data-mce-style="color: #888888\;" style="color: rgb(136\,136\,136)">Bixby Metro Chamber Business@Lunch is an opportunity for Investment Partners </span><span data-mce-style="color: #888888\;" style="color: rgb(136\,136\,136)">to network and learn techniques to assist your business. The Business@Lunch series </span><span data-mce-style="color: #888888\;" style="color: rgb(136\,136\,136)">is continuing to grow with typically 150 plus business and community leaders in attendance. Anyone interested is invited to<br />\n&nbsp\;attend</span><br />\n<br />\n<strong><span style="color:#666666\;"><span style="font-family:arial\,sans-serif\;"><span style="font-size:9.0pt\;">How to Become A Social Media Rock Star</span></span></span></strong><br />\n<span style="color:#666666\;"><span style="font-family:arial\,sans-serif\;"><span style="font-size:8.0pt\;">In this session\, you will learn:&nbsp\;</span></span></span>\n\n<ul>\n	<li style="color:#666666\;"><span style="font-family:arial\,sans-serif\;"><span style="font-size:8.0pt\;">How to build a social media strategy</span></span></li>\n	<li style="color:#666666\;"><span style="font-family:arial\,sans-serif\;"><span style="font-size:8.0pt\;">Why a Content Grid is key for success</span></span></li>\n	<li style="color:#666666\;"><span style="font-family:arial\,sans-serif\;"><span style="font-size:8.0pt\;">Learn where your customers are on social media</span></span></li>\n	<li style="color:#666666\;"><span style="font-family:arial\,sans-serif\;"><span style="font-size:8.0pt\;">How to make social media ads work FOR you\, not against you</span></span></li>\n	<li style="color:#666666\;"><span style="font-family:arial\,sans-serif\;"><span style="font-size:8.0pt\;">How to get REAL ROI on your efforts</span></span></li>\n</ul>\n<br />\n<span style="color:#666666\;"><span style="font-family:arial\,sans-serif\;"><span style="font-size:8.0pt\;"><strong>Speaker:</strong> Cindy Morrison</span></span></span><br />\n<em><span style="color:#666666\;"><span style="font-family:arial\,sans-serif\;"><span style="font-size:8.0pt\;">Social Media Strategist</span></span></span></em>
LOCATION:SpiritBank Event Center 10441 South Regal Boulevard Please park in the south parking garage.
UID:e.1611.1315
SEQUENCE:3
DTSTAMP:20260420T145046Z
URL:https://portal.bixbychamber.com/events/details/2014-october-business-lunch-10-01-2014-1315
END:VEVENT

END:VCALENDAR
