BEGIN:VCALENDAR
VERSION:2.0
PRODID:-//ChamberMaster//Event Calendar 2.0//EN
METHOD:PUBLISH
X-PUBLISHED-TTL:P3D
REFRESH-INTERVAL:P3D
CALSCALE:GREGORIAN
BEGIN:VEVENT
DTSTART:20141113T143000Z
DTEND:20141113T160000Z
X-MICROSOFT-CDO-ALLDAYEVENT:FALSE
SUMMARY:2014 November Get to Know Your Chamber
DESCRIPTION:
X-ALT-DESC;FMTTYPE=text/html:
LOCATION:
UID:e.1611.1451
SEQUENCE:3
DTSTAMP:20260420T134444Z
URL:https://portal.bixbychamber.com/events/details/2014-november-get-to-know-your-chamber-11-13-2014-1451
END:VEVENT

END:VCALENDAR
