BEGIN:VCALENDAR
VERSION:2.0
PRODID:-//ChamberMaster//Event Calendar 2.0//EN
METHOD:PUBLISH
X-PUBLISHED-TTL:P3D
REFRESH-INTERVAL:P3D
CALSCALE:GREGORIAN
BEGIN:VEVENT
DTSTART;VALUE=DATE:20140226
DTEND;VALUE=DATE:20140515
TRANSP:TRANSPARENT
X-MICROSOFT-CDO-ALLDAYEVENT:TRUE
SUMMARY:2014 Movers For Moms
DESCRIPTION:Two Men And A Truck want to help out the Tulsa Community! We will be participating in an event called "Movers For Moms". People and businesses can donate toiletries or canned goods to help mothers in need. If you would like us to drop off a box to any location please call us at 918-234-2636 and will would be happy to do so! We are very excited about this event and hope that you take advantage of this great opportunity to help the community!
X-ALT-DESC;FMTTYPE=text/html:Two Men And A Truck want to help out the Tulsa Community! We will be participating in an event called &quot\;Movers For Moms&quot\;. People and businesses can donate toiletries or canned goods to help mothers in need. If you would like us to drop off a box to any location please call us at <a href="tel:918-234-2636">918-234-2636</a> and will would be happy to do so! We are very excited about this event and hope that you take advantage of this great opportunity to help the community!
LOCATION:
UID:e.1611.1335
SEQUENCE:3
DTSTAMP:20260420T213610Z
URL:https://portal.bixbychamber.com/events/details/2014-movers-for-moms-02-26-2014-1335
END:VEVENT

END:VCALENDAR
