BEGIN:VCALENDAR
VERSION:2.0
PRODID:-//ChamberMaster//Event Calendar 2.0//EN
METHOD:PUBLISH
X-PUBLISHED-TTL:P3D
REFRESH-INTERVAL:P3D
CALSCALE:GREGORIAN
BEGIN:VEVENT
DTSTART:20140501T170000Z
DTEND:20140518T170000Z
X-MICROSOFT-CDO-ALLDAYEVENT:FALSE
SUMMARY:2014 Mommy & Me Spa Day
DESCRIPTION:Come enjoy your own private Spa Party. Package accommodates up to 6 guest. Additional services can be added to your party with advanced notice. Package includes: ~ Pick Me Up Facial ~ Neck & Shoulder Massage ~ Hand or Foot treatment ~ Sauna ~ Food & Drinks Spa is closed down to the public during private parties and re-opened upon conclusion of party. Additional services and treatments can be upgraded at a discounted price. Please call for details 918-970-2271. LaFusion Massage & Spa 8222 E 103rd St Suite 134 Tulsa\, OK. 74133 918-970-2271 www.lafusionspa.com #massage #girlsnightout #girlsdayout #spaday #spaparty #facial #bodywrap #party
X-ALT-DESC;FMTTYPE=text/html:Come enjoy your own private Spa Party. Package accommodates up to 6 guest. Additional services can be added to your party with advanced notice. Package includes: ~ Pick Me Up Facial ~ Neck &amp\; Shoulder Massage ~ Hand or Foot treatment ~ Sauna ~ Food &amp\; Drinks Spa is closed down to the public during private parties and re-opened upon conclusion of party. Additional services and treatments can be upgraded at a discounted price. Please call for details 918-970-2271. LaFusion Massage &amp\; Spa 8222 E 103rd St Suite 134 Tulsa\, OK. 74133 918-970-2271 www.lafusionspa.com #massage #girlsnightout #girlsdayout #spaday #spaparty #facial #bodywrap #party
LOCATION:8222 E 103rd St Suite 134 Tulsa\, OK. 74133
UID:e.1611.1370
SEQUENCE:3
DTSTAMP:20260420T213848Z
URL:https://portal.bixbychamber.com/events/details/2014-mommy-me-spa-day-05-01-2014-1370
END:VEVENT

END:VCALENDAR
