BEGIN:VCALENDAR
VERSION:2.0
PRODID:-//ChamberMaster//Event Calendar 2.0//EN
METHOD:PUBLISH
X-PUBLISHED-TTL:P3D
REFRESH-INTERVAL:P3D
CALSCALE:GREGORIAN
BEGIN:VEVENT
DTSTART:20141120T173000Z
DTEND:20141120T190000Z
X-MICROSOFT-CDO-ALLDAYEVENT:FALSE
SUMMARY:2014 Mayor's State of the City
DESCRIPTION:
X-ALT-DESC;FMTTYPE=text/html:
LOCATION:
UID:e.1611.1326
SEQUENCE:3
DTSTAMP:20260420T134607Z
URL:https://portal.bixbychamber.com/events/details/2014-mayor-s-state-of-the-city-11-20-2014-1326
END:VEVENT

END:VCALENDAR
