BEGIN:VCALENDAR
VERSION:2.0
PRODID:-//ChamberMaster//Event Calendar 2.0//EN
METHOD:PUBLISH
X-PUBLISHED-TTL:P3D
REFRESH-INTERVAL:P3D
CALSCALE:GREGORIAN
BEGIN:VEVENT
DTSTART:20140516T163000Z
DTEND:20140516T180000Z
X-MICROSOFT-CDO-ALLDAYEVENT:FALSE
SUMMARY:2014 May Learn Over Lunch
DESCRIPTION:Learn Over Lunch educational program\, partners will mentor other partners on important business skills including personal and professional development\, educational growth and the latest trends and technology. Join us for lunch and take some time out of your day to learn from an expert.
X-ALT-DESC;FMTTYPE=text/html:<em><em>Learn Over Lunch educational program\, partners will mentor other partners on important business skills including personal and professional development\, educational growth and the latest trends and technology. Join us for lunch and take some time out of your day to learn from an expert</em>.</em><br />\n&nbsp\;
LOCATION:Bixby Metro Chamber Board Room
UID:e.1611.1281
SEQUENCE:3
DTSTAMP:20260420T212939Z
URL:https://portal.bixbychamber.com/events/details/2014-may-learn-over-lunch-05-16-2014-1281
END:VEVENT

END:VCALENDAR
