BEGIN:VCALENDAR
VERSION:2.0
PRODID:-//ChamberMaster//Event Calendar 2.0//EN
METHOD:PUBLISH
X-PUBLISHED-TTL:P3D
REFRESH-INTERVAL:P3D
CALSCALE:GREGORIAN
BEGIN:VEVENT
DTSTART:20140508T133000Z
DTEND:20140508T150000Z
X-MICROSOFT-CDO-ALLDAYEVENT:FALSE
SUMMARY:2014 May Get To Know Your Chamber
DESCRIPTION:This reception give all Partners an opportunity to learn about the Bixby Metro Chamber\, our programs\, Partners benefits and ways the Chamber can help brand your business. The reception is open to not only New Partners to the Chamber but also existing Partners looking for ways to get more involved\, promote their business and to welcome other Partners.
X-ALT-DESC;FMTTYPE=text/html:This reception give all Partners an opportunity to learn about the Bixby Metro Chamber\, our programs\, Partners benefits and ways the Chamber can help brand your business. The reception is open to not only New Partners to the Chamber but also existing Partners looking for ways to get more involved\, promote their business and to welcome other Partners.&nbsp\;
LOCATION:Hampton Inn 8220 East Regal Place\, Tulsa\, OK 74133
UID:e.1611.1278
SEQUENCE:3
DTSTAMP:20260420T213748Z
URL:https://portal.bixbychamber.com/events/details/2014-may-get-to-know-your-chamber-05-08-2014-1278
END:VEVENT

END:VCALENDAR
