BEGIN:VCALENDAR
VERSION:2.0
PRODID:-//ChamberMaster//Event Calendar 2.0//EN
METHOD:PUBLISH
X-PUBLISHED-TTL:P3D
REFRESH-INTERVAL:P3D
CALSCALE:GREGORIAN
BEGIN:VEVENT
DTSTART:20140502T124500Z
DTEND:20140502T140000Z
X-MICROSOFT-CDO-ALLDAYEVENT:FALSE
SUMMARY:2014 May Coffee & Commerce
DESCRIPTION:Coffee & Commerce is an opportunity for our partners to be able to communicate with our legislators in a more personal setting.  We are inviting all legislators in our area who are able to attend for this breakfast event to discuss with our Partners the items that matter to them.
X-ALT-DESC;FMTTYPE=text/html:<span style="color:black\;"><span style="font-family:helvetica\;"><span style="font-size:16.0pt\;">Coffee &amp\; Commerce is an opportunity for our partners to be able to communicate with our legislators in a more personal setting. &nbsp\;We are inviting all&nbsp\;legislators in our area who are able to attend for this breakfast event to discuss with our Partners the items that matter to them.</span></span></span><br />\n&nbsp\;
LOCATION:Bixby Metro Chamber Board Room 10441 South Regal Boulevard Suite 1104 Tulsa\, OK 74133
UID:e.1611.1276
SEQUENCE:3
DTSTAMP:20260420T212933Z
URL:https://portal.bixbychamber.com/events/details/2014-may-coffee-commerce-05-02-2014-1276
END:VEVENT

END:VCALENDAR
