BEGIN:VCALENDAR
VERSION:2.0
PRODID:-//ChamberMaster//Event Calendar 2.0//EN
METHOD:PUBLISH
X-PUBLISHED-TTL:P3D
REFRESH-INTERVAL:P3D
CALSCALE:GREGORIAN
BEGIN:VEVENT
DTSTART:20140514T213000Z
DTEND:20140515T000000Z
X-MICROSOFT-CDO-ALLDAYEVENT:FALSE
SUMMARY:2014 May After Hours Standley Systems
DESCRIPTION:A very relaxed and casual networking event that gives the highlighted business a great opportunity to promote your products and services. Food and beverages will be provided.
X-ALT-DESC;FMTTYPE=text/html:A very relaxed and casual networking event that gives the highlighted&nbsp\;business a great opportunity to promote your products and services. Food and beverages will be&nbsp\;provided.&nbsp\;
LOCATION:Standley Systems 5314 South Yale Suite 305 Tulsa\, OK 74135
UID:e.1611.1280
SEQUENCE:3
DTSTAMP:20260420T213724Z
URL:https://portal.bixbychamber.com/events/details/2014-may-after-hours-standley-systems-05-14-2014-1280
END:VEVENT

END:VCALENDAR
