BEGIN:VCALENDAR
VERSION:2.0
PRODID:-//ChamberMaster//Event Calendar 2.0//EN
METHOD:PUBLISH
X-PUBLISHED-TTL:P3D
REFRESH-INTERVAL:P3D
CALSCALE:GREGORIAN
BEGIN:VEVENT
DTSTART;VALUE=DATE:20140528
DTEND;VALUE=DATE:20140601
TRANSP:TRANSPARENT
X-MICROSOFT-CDO-ALLDAYEVENT:TRUE
SUMMARY:2014 Massage marathon $45 1st time visitor special
DESCRIPTION:$45.00 \n\n1 hour Swedish Massage\n\n           or\n\n1 European Facial\n\n\n\nFirst time visitor S-P-E-C-I-A-L !!\n\nCome enjoy a relaxing massage or facial.  While you're here you can check out some of our other services too.  Waxing\, Brow Tinting\, and Wraps.\n\n\n\nLaFusion Day Spa\n\n8222 E 103rd St Suite 134\n\nTulsa\, OK.  74133\n\n918-970-2271\n\nwww.lafusionspa.com
X-ALT-DESC;FMTTYPE=text/html:<strong><span style="font-size:24px\;"><span style="color:#B22222\;">$45.00&nbsp\;</span></span></strong><br />\n<strong>1 hour Swedish Massage<br />\n&nbsp\;&nbsp\; &nbsp\; &nbsp\; &nbsp\; &nbsp\; or<br />\n1 European Facial</strong><br />\n<br />\nFirst time visitor&nbsp\;<span style="color:#B22222\;"><strong><span style="font-size:26px\;">S-P-E-C-I-A-L !!</span></strong></span><br />\nCome enjoy a relaxing massage or facial. &nbsp\;While you&#39\;re here you can check out some of our other services too. &nbsp\;Waxing\, Brow Tinting\, and Wraps.<br />\n<br />\n<strong>LaFusion Day Spa<br />\n8222 E 103rd St Suite 134<br />\nTulsa\, OK. &nbsp\;74133<br />\n918-970-2271<br />\nwww.lafusionspa.com</strong>
LOCATION:8222 E 103rd St Suite 134
UID:e.1611.1385
SEQUENCE:3
DTSTAMP:20260420T213911Z
URL:https://portal.bixbychamber.com/events/details/2014-massage-marathon-45-1st-time-visitor-special-05-28-2014-1385
END:VEVENT

END:VCALENDAR
