BEGIN:VCALENDAR
VERSION:2.0
PRODID:-//ChamberMaster//Event Calendar 2.0//EN
METHOD:PUBLISH
X-PUBLISHED-TTL:P3D
REFRESH-INTERVAL:P3D
CALSCALE:GREGORIAN
BEGIN:VEVENT
DTSTART:20140307T173000Z
DTEND:20140307T190000Z
X-MICROSOFT-CDO-ALLDAYEVENT:FALSE
SUMMARY:2014 March Legislative Lunch
DESCRIPTION:This luncheon provides an opportunity for Chamber Partners to hear from our Oklahoma Delegation and advocate for issues of importance to the Bixby Metro business community and our quality of life. Facilitation communication between elected officials and the business community is a significant Chamber Priority.
X-ALT-DESC;FMTTYPE=text/html:This luncheon provides an opportunity for Chamber Partners to hear from our Oklahoma Delegation and advocate for issues of importance to the Bixby Metro business community and our quality of life. Facilitation communication between elected officials and the business community is a significant Chamber Priority.&nbsp\;
LOCATION:Michael V's 8222 East 103rd Street Suite 137 Tulsa\, OK 74133
UID:e.1611.1267
SEQUENCE:3
DTSTAMP:20260420T235631Z
URL:https://portal.bixbychamber.com/events/details/2014-march-legislative-lunch-03-07-2014-1267
END:VEVENT

END:VCALENDAR
