BEGIN:VCALENDAR
VERSION:2.0
PRODID:-//ChamberMaster//Event Calendar 2.0//EN
METHOD:PUBLISH
X-PUBLISHED-TTL:P3D
REFRESH-INTERVAL:P3D
CALSCALE:GREGORIAN
BEGIN:VEVENT
DTSTART:20140314T163000Z
DTEND:20140314T180000Z
X-MICROSOFT-CDO-ALLDAYEVENT:FALSE
SUMMARY:2014 March Learn Over Lunch
DESCRIPTION:Learn Over Lunch educational program\, partners will mentor other partners on important business skills including personal and professional development\, educational growth and the latest trends and technology. Join us for lunch and take some time out of your day to learn from an expert.\n\n\n\nInvesting 101: On the Road to Your Financial Future\n\nOur facilitator\, Jeff Jackson\, an Investment Consultant with First Financial Center\, will teach us about the basics of investing including:\n\n\n	Setting Goals & Priorities\n	Mapping a Personalized Strategy\n	Investment Vehicles\n	Rules of the Road\n\n \n\nSecurities offered through LPL Financial\, member FINRA/SIPC. Insurance products offered through LPL Financial or its licensed affiliates. The investment products sold through LPL Financial are not insured Firstar Bank deposits and are not FDIC insured. These products are not obligations of Firstar Bank and are not endorsed\, recommended\, or guaranteed by Firstar Bank or any government agency. The value of an investment may fluctuate\, return on an investment is not guaranteed\, and loss of principal is possible.
X-ALT-DESC;FMTTYPE=text/html:<em><em>Learn Over Lunch educational program\, partners will mentor other partners on important business skills including personal and professional development\, educational growth and the latest trends and technology. Join us for lunch and take some time out of your day to learn from an expert</em>.</em><br />\n<br />\n<span style="color:#0070B6\;"><span style="font-family:arial\,sans-serif\;"><span style="font-size:16.0pt\;">Investing 101: On the Road to Your Financial Future</span></span></span><br />\n<span style="color:black\;"><span style="font-family:arial\,sans-serif\;"><span style="font-size:9.0pt\;">Our facilitator\, Jeff Jackson\, an Investment Consultant with First Financial Center\, will teach us about the basics of investing including:</span></span></span>\n\n<ul>\n	<li style="color:black\;margin-bottom:0in\;margin-bottom:.0001pt\;line-height:normal\;"><span style="font-family:arial\,sans-serif\;"><span style="font-size:9.0pt\;">Setting Goals &amp\; Priorities</span></span></li>\n	<li style="color:black\;margin-bottom:0in\;margin-bottom:.0001pt\;line-height:normal\;"><span style="font-family:arial\,sans-serif\;"><span style="font-size:9.0pt\;">Mapping a Personalized Strategy</span></span></li>\n	<li style="color:black\;margin-bottom:0in\;margin-bottom:.0001pt\;line-height:normal\;"><span style="font-family:arial\,sans-serif\;"><span style="font-size:9.0pt\;">Investment Vehicles</span></span></li>\n	<li style="color:black\;margin-bottom:0in\;margin-bottom:.0001pt\;line-height:normal\;"><span style="font-family:arial\,sans-serif\;"><span style="font-size:9.0pt\;">Rules of the Road</span></span></li>\n</ul>\n&nbsp\;<br />\n<span style="font-family:tahoma\,sans-serif\;"><span style="font-size:8.0pt\;">Securities offered through LPL Financial\, member FINRA/SIPC. Insurance products offered through LPL Financial or its licensed affiliates. The investment products sold through LPL Financial are not insured Firstar Bank deposits and are not FDIC insured. These products are not obligations of Firstar Bank and are not endorsed\, recommended\, or guaranteed by Firstar Bank or any government agency. The value of an investment may fluctuate\, return on an investment is not guaranteed\, and loss of principal is possible.</span></span><br />\n&nbsp\;
LOCATION:Chamber Board Room
UID:e.1611.1268
SEQUENCE:3
DTSTAMP:20260420T235631Z
URL:https://portal.bixbychamber.com/events/details/2014-march-learn-over-lunch-03-14-2014-1268
END:VEVENT

END:VCALENDAR
