BEGIN:VCALENDAR
VERSION:2.0
PRODID:-//ChamberMaster//Event Calendar 2.0//EN
METHOD:PUBLISH
X-PUBLISHED-TTL:P3D
REFRESH-INTERVAL:P3D
CALSCALE:GREGORIAN
BEGIN:VEVENT
DTSTART:20140418T163000Z
DTEND:20140418T180000Z
X-MICROSOFT-CDO-ALLDAYEVENT:FALSE
SUMMARY:2014 Lunch with Congressman Frank Lucas
DESCRIPTION:The Tulsa Republican Club invites you to have lunch with Congressman Frank Lucas. \n\n\n\nThe Tulsa Republican Club meets the third Friday of every month in downtown Tulsa on the 30th floor of the Bank of America building. \n\n\n\nLunch is served starting at 11:30 AM\, their program begins at noon. Buffet lunch is $20.00 and $25.00 to join the club.
X-ALT-DESC;FMTTYPE=text/html:The Tulsa Republican Club invites you to have lunch with Congressman Frank Lucas.&nbsp\;<br />\n<br />\nThe Tulsa Republican Club meets the third Friday of every month in downtown Tulsa on the 30th floor of the Bank of America building.&nbsp\;<br />\n<br />\nLunch is served starting at 11:30 AM\, their program begins at noon. Buffet lunch is $20.00 and $25.00 to join the club.
LOCATION:15 West 6th Street Tulsa\, OK
UID:e.1611.1361
SEQUENCE:3
DTSTAMP:20260421T001202Z
URL:https://portal.bixbychamber.com/events/details/2014-lunch-with-congressman-frank-lucas-04-18-2014-1361
END:VEVENT

END:VCALENDAR
