BEGIN:VCALENDAR
VERSION:2.0
PRODID:-//ChamberMaster//Event Calendar 2.0//EN
METHOD:PUBLISH
X-PUBLISHED-TTL:P3D
REFRESH-INTERVAL:P3D
CALSCALE:GREGORIAN
BEGIN:VEVENT
DTSTART:20140503T120000Z
DTEND:20140503T170000Z
X-MICROSOFT-CDO-ALLDAYEVENT:FALSE
SUMMARY:2014 Living With Diabetes
DESCRIPTION:Join the movement to Stop Diabetes   Visit the American Diabetes Association's  Living With Diabetes health & wellness fair Get all the tools you need to live well with diabetes! NEW  THIS YEAR:  lecture\, discussion & A1c Champion session in Spanish BACK AGAIN: free cholesterol tests to the 1st 75 attendees Other screenings: include: blood pressure\, BMI\, foot\, eye\, dental Participate in a lecture & discussion with Dr. Raphael C. Francisco Listen to an A1c Champion share their experience living with diabetes  Visit the exhibitors & enjoy a presentation by ?My Fit Foods?  2014 MC is Tawnie Goodwin\, Miss Tulsa State Fair & Diabetes Ambassador
X-ALT-DESC;FMTTYPE=text/html:Join the movement to Stop Diabetes&reg\;&nbsp\; Visit the American Diabetes Association&#39\;s&nbsp\; Living With Diabetes health &amp\; wellness fair Get all the tools you need to live well with diabetes! NEW &nbsp\;THIS YEAR: &nbsp\;lecture\, discussion &amp\; A1c Champion session in Spanish BACK AGAIN: free cholesterol tests to the 1st 75 attendees Other screenings: include: blood pressure\, BMI\, foot\, eye\, dental Participate in a lecture &amp\; discussion with Dr. Raphael C. Francisco Listen to an A1c Champion share their experience living with diabetes&nbsp\; Visit the exhibitors &amp\; enjoy a presentation by ?My Fit Foods?&nbsp\; 2014 MC is Tawnie Goodwin\, Miss Tulsa State Fair &amp\; Diabetes Ambassador
LOCATION:Tulsa Southern Hills Marriott\, 1902 E 71st St\, Tulsa\, OL
UID:e.1611.1367
SEQUENCE:3
DTSTAMP:20260420T213932Z
URL:https://portal.bixbychamber.com/events/details/2014-living-with-diabetes-05-03-2014-1367
END:VEVENT

END:VCALENDAR
