BEGIN:VCALENDAR
VERSION:2.0
PRODID:-//ChamberMaster//Event Calendar 2.0//EN
METHOD:PUBLISH
X-PUBLISHED-TTL:P3D
REFRESH-INTERVAL:P3D
CALSCALE:GREGORIAN
BEGIN:VEVENT
DTSTART:20140503T130000Z
DTEND:20140503T210000Z
X-MICROSOFT-CDO-ALLDAYEVENT:FALSE
SUMMARY:2014 Lighthouse Treasures
DESCRIPTION:Calvary Lighthouse is  hosting its first annual craft and rummage sale " Lighthouse Treasures"
X-ALT-DESC;FMTTYPE=text/html:Calvary Lighthouse is &nbsp\;hosting its first annual craft and rummage sale &quot\; Lighthouse Treasures&quot\;
LOCATION:Calvary Lighthouse 9400 East 131st Street South Bixby\, OK 74008
UID:e.1611.1357
SEQUENCE:3
DTSTAMP:20260420T213725Z
URL:https://portal.bixbychamber.com/events/details/2014-lighthouse-treasures-05-03-2014-1357
END:VEVENT

END:VCALENDAR
