BEGIN:VCALENDAR
VERSION:2.0
PRODID:-//ChamberMaster//Event Calendar 2.0//EN
METHOD:PUBLISH
X-PUBLISHED-TTL:P3D
REFRESH-INTERVAL:P3D
CALSCALE:GREGORIAN
BEGIN:VEVENT
DTSTART:20140618T163000Z
DTEND:20140618T180000Z
X-MICROSOFT-CDO-ALLDAYEVENT:FALSE
SUMMARY:2014 Legislative Lunch Featuring Former Speaker T.W. Shannon
DESCRIPTION:Please join us as we welcome Former Speaker of the House and U.S. Senate Candidate T.W. Shannon.
X-ALT-DESC;FMTTYPE=text/html:Please join us as we welcome Former Speaker of the House and U.S. Senate Candidate T.W. Shannon.
LOCATION:Micheal V's 8222 East 103rd Street\, Suite 137 Tulsa\, OK 74133
UID:e.1611.1344
SEQUENCE:3
DTSTAMP:20260420T200903Z
URL:https://portal.bixbychamber.com/events/details/2014-legislative-lunch-featuring-former-speaker-t-w-shannon-06-18-2014-1344
END:VEVENT

END:VCALENDAR
