BEGIN:VCALENDAR
VERSION:2.0
PRODID:-//ChamberMaster//Event Calendar 2.0//EN
METHOD:PUBLISH
X-PUBLISHED-TTL:P3D
REFRESH-INTERVAL:P3D
CALSCALE:GREGORIAN
BEGIN:VEVENT
DTSTART:20140416T163000Z
DTEND:20140416T180000Z
X-MICROSOFT-CDO-ALLDAYEVENT:FALSE
SUMMARY:2014 Legislative Lunch Featuring Congressman Jim Bridenstine
DESCRIPTION:
X-ALT-DESC;FMTTYPE=text/html:
LOCATION:Michael V's 8222 East 103rd Street Tulsa\, OK 74133
UID:e.1611.1273
SEQUENCE:3
DTSTAMP:20260421T001112Z
URL:https://portal.bixbychamber.com/events/details/2014-legislative-lunch-featuring-congressman-jim-bridenstine-04-16-2014-1273
END:VEVENT

END:VCALENDAR
