BEGIN:VCALENDAR
VERSION:2.0
PRODID:-//ChamberMaster//Event Calendar 2.0//EN
METHOD:PUBLISH
X-PUBLISHED-TTL:P3D
REFRESH-INTERVAL:P3D
CALSCALE:GREGORIAN
BEGIN:VEVENT
DTSTART:20140606T124500Z
DTEND:20140606T140000Z
X-MICROSOFT-CDO-ALLDAYEVENT:FALSE
SUMMARY:2014 Legislative Breakfast Featuring Congressman James Lankford
DESCRIPTION:Please join us as we welcome U.S.Representative and U.S. Senate Candidate James Lankford.
X-ALT-DESC;FMTTYPE=text/html:Please join us as we welcome U.S.Representative and U.S. Senate Candidate James Lankford.
LOCATION:RiverCrest Event Center 13329 South Memorial Drive Bixby\, OK 74008
UID:e.1611.1382
SEQUENCE:3
DTSTAMP:20260420T213417Z
URL:https://portal.bixbychamber.com/events/details/2014-legislative-breakfast-featuring-congressman-james-lankford-06-06-2014-1382
END:VEVENT

END:VCALENDAR
