BEGIN:VCALENDAR
VERSION:2.0
PRODID:-//ChamberMaster//Event Calendar 2.0//EN
METHOD:PUBLISH
X-PUBLISHED-TTL:P3D
REFRESH-INTERVAL:P3D
CALSCALE:GREGORIAN
BEGIN:VEVENT
DTSTART;VALUE=DATE:20140817
DTEND;VALUE=DATE:20140824
TRANSP:TRANSPARENT
X-MICROSOFT-CDO-ALLDAYEVENT:TRUE
SUMMARY:2014 Just Between Friends - Fall Children's Consignment Sale
DESCRIPTION:It?s time for the Just Between Friends Tulsa Fall Sale! This is a children?s consignment event where local parents consign new or gently used children?s items they no longer need. Clothing\, Shoes\, Toys\, Games\, Books\, Puzzles\, Videos\, Furniture\, Baby Equipment\, Maternity and more! Come enjoy savings of 50-90% OFF retail. Going on at the Exchange Center at Expo Square August 17th ? 23rd. Open Sunday\, August 17th 1pm-7pm with a $10 admission. The rest of the week is FREE admission\, open 9am-7pm. Saturday the 23rd is HALF OFF most items\, open 9am-5pm. For more info\, visit www.tulsa.jbfsale.com
X-ALT-DESC;FMTTYPE=text/html:It?s time for the Just Between Friends Tulsa Fall Sale! This is a children?s consignment event where local parents consign new or gently used children?s items they no longer need. Clothing\, Shoes\, Toys\, Games\, Books\, Puzzles\, Videos\, Furniture\, Baby Equipment\, Maternity and more! Come enjoy savings of 50-90% OFF retail. Going on at the Exchange Center at Expo Square August 17th ? 23rd. Open Sunday\, August 17th 1pm-7pm with a $10 admission. The rest of the week is FREE admission\, open 9am-7pm. Saturday the 23rd is HALF OFF most items\, open 9am-5pm. For more info\, visit www.tulsa.jbfsale.com
LOCATION:Exchange Center at Expo Square 4145 EAST 21st ST\, Tulsa\, OK 74114
UID:e.1611.1416
SEQUENCE:3
DTSTAMP:20260420T172416Z
URL:https://portal.bixbychamber.com/events/details/2014-just-between-friends-fall-children-s-consignment-sale-08-17-2014-1416
END:VEVENT

END:VCALENDAR
