BEGIN:VCALENDAR
VERSION:2.0
PRODID:-//ChamberMaster//Event Calendar 2.0//EN
METHOD:PUBLISH
X-PUBLISHED-TTL:P3D
REFRESH-INTERVAL:P3D
CALSCALE:GREGORIAN
BEGIN:VEVENT
DTSTART:20140613T163000Z
DTEND:20140613T180000Z
X-MICROSOFT-CDO-ALLDAYEVENT:FALSE
SUMMARY:2014 June Legislative Lunch
DESCRIPTION:This luncheon provides an opportunity for Chamber Partners to hear from our Oklahoma Delegation and advocate for issues of importance to the Bixby Metro business community and our quality of life. Facilitation communication between elected officials and the business community is a significant Chamber Priority.
X-ALT-DESC;FMTTYPE=text/html:This luncheon provides an opportunity for Chamber Partners to hear from our Oklahoma Delegation and advocate for issues of importance to the Bixby Metro business community and our quality of life. Facilitation communication between elected officials and the business community is a significant Chamber Priority.&nbsp\;
LOCATION:Michael V's 8222 East 103rd Street Suite 137 Tulsa\, OK 74133
UID:e.1611.1284
SEQUENCE:3
DTSTAMP:20260420T200544Z
URL:https://portal.bixbychamber.com/events/details/2014-june-legislative-lunch-06-13-2014-1284
END:VEVENT

END:VCALENDAR
