BEGIN:VCALENDAR
VERSION:2.0
PRODID:-//ChamberMaster//Event Calendar 2.0//EN
METHOD:PUBLISH
X-PUBLISHED-TTL:P3D
REFRESH-INTERVAL:P3D
CALSCALE:GREGORIAN
BEGIN:VEVENT
DTSTART:20140717T223000Z
DTEND:20140718T000000Z
X-MICROSOFT-CDO-ALLDAYEVENT:FALSE
SUMMARY:2014 July After Hours
DESCRIPTION:Join us for a fun evening of casual networking hosted by Hine Dental.\n\n\n	Food\n	Drinks\n	Prizes\n	Live Music
X-ALT-DESC;FMTTYPE=text/html:<div style="color:black\;">Join us for a fun evening of casual networking hosted by Hine Dental.</div>\n\n<ul>\n	<li style="color:black\;"><span style="font-family:arial\,sans-serif\;"><span style="font-size:9.0pt\;">Food</span></span></li>\n	<li style="color:black\;"><span style="font-family:arial\,sans-serif\;"><span style="font-size:9.0pt\;">Drinks</span></span></li>\n	<li style="color:black\;"><span style="font-family:arial\,sans-serif\;"><span style="font-size:9.0pt\;">Prizes</span></span></li>\n	<li style="color:black\;"><span style="font-family:arial\,sans-serif\;"><span style="font-size:9.0pt\;">Live Music</span></span></li>\n</ul>\n
LOCATION:Hine Dental 12345 South Memorial Drive Bixby\, OK 74008
UID:e.1611.1290
SEQUENCE:3
DTSTAMP:20260420T184011Z
URL:https://portal.bixbychamber.com/events/details/2014-july-after-hours-07-17-2014-1290
END:VEVENT

END:VCALENDAR
