BEGIN:VCALENDAR
VERSION:2.0
PRODID:-//ChamberMaster//Event Calendar 2.0//EN
METHOD:PUBLISH
X-PUBLISHED-TTL:P3D
REFRESH-INTERVAL:P3D
CALSCALE:GREGORIAN
BEGIN:VEVENT
DTSTART:20140504T233000Z
DTEND:20140505T010000Z
X-MICROSOFT-CDO-ALLDAYEVENT:FALSE
SUMMARY:2014 Jimmy Needham Concert
DESCRIPTION:Christian Artist Jimmy Needham in Concert at New Beginnings Church. This is a great family-friendly event for all ages! Doors open at 6:00 PM. Seating is limited.
X-ALT-DESC;FMTTYPE=text/html:Christian Artist Jimmy Needham in Concert at New Beginnings Church. This is a great family-friendly event for all ages! Doors open at 6:00 PM. Seating is limited.
LOCATION:4104 East 151st Street South Bixby. OK 74008
UID:e.1611.1363
SEQUENCE:3
DTSTAMP:20260420T225124Z
URL:https://portal.bixbychamber.com/events/details/2014-jimmy-needham-concert-05-04-2014-1363
END:VEVENT

END:VCALENDAR
