BEGIN:VCALENDAR
VERSION:2.0
PRODID:-//ChamberMaster//Event Calendar 2.0//EN
METHOD:PUBLISH
X-PUBLISHED-TTL:P3D
REFRESH-INTERVAL:P3D
CALSCALE:GREGORIAN
BEGIN:VEVENT
DTSTART:20140402T230000Z
DTEND:20140403T010000Z
X-MICROSOFT-CDO-ALLDAYEVENT:FALSE
SUMMARY:2014 Infuzion's Wine\, Women\, & Wednesdays
DESCRIPTION:Wine\, Women\, & Wednesdays is a weekly networking event every Wednesday from 6-8 p.m. at Infuzion Ultra Lounge & Bistro at 101st and Mingo. This is an awesome opportunity for ladies to network themselves and their businesses\, enjoy wine\, and a complimentary chocolate fountain.\n\n\n\nEach week will feature a spotlight business who will give a short presentation about their business and sponsor a giveaway that night. For further information\, please email sbaumann@infuziontulsa.com.
X-ALT-DESC;FMTTYPE=text/html:Wine\, Women\, &amp\; Wednesdays is a weekly networking event every Wednesday from 6-8 p.m. at Infuzion Ultra Lounge &amp\; Bistro at 101st and Mingo. This is an awesome opportunity for ladies to network themselves and their businesses\, enjoy wine\, and a complimentary chocolate fountain.<br />\n<br />\nEach week will feature a spotlight business who will give a short presentation about their business and sponsor a giveaway that night. For further information\, please email sbaumann@infuziontulsa.com.
LOCATION:Infuzion Ultra Lounge and Bistro
UID:e.1611.1350
SEQUENCE:3
DTSTAMP:20260420T225457Z
URL:https://portal.bixbychamber.com/events/details/2014-infuzion-s-wine-women-wednesdays-04-02-2014-1350
END:VEVENT

END:VCALENDAR
