BEGIN:VCALENDAR
VERSION:2.0
PRODID:-//ChamberMaster//Event Calendar 2.0//EN
METHOD:PUBLISH
X-PUBLISHED-TTL:P3D
REFRESH-INTERVAL:P3D
CALSCALE:GREGORIAN
BEGIN:VEVENT
DTSTART:20140816T000000Z
DTEND:20140816T013000Z
X-MICROSOFT-CDO-ALLDAYEVENT:FALSE
SUMMARY:2014 Healthy Living Doctors Panel
DESCRIPTION:Hear Dr. Paul Williams\, M.D\; Dr. Roger Mueller\, M.D. and Dr. Tanya Jackson\, DPT explain the importance of good nutrition for cardiovascular\, cancer & other preventable diseases. They will tell what simple changes will do for most health issues. All three have years of experience treating patients they have seen in (ER\; Orthopedic\; sports of all types).
X-ALT-DESC;FMTTYPE=text/html:Hear Dr. Paul Williams\, M.D\; Dr. Roger Mueller\, M.D. and Dr. Tanya Jackson\, DPT explain the importance of good nutrition for cardiovascular\, cancer &amp\; other preventable diseases. They will tell what simple changes will do for most health issues. All three have years of experience treating patients they have seen in (ER\; Orthopedic\; sports of all types).
LOCATION:Baptist Village Activity Room 2804 N. Date Ave. Broken Arrow\, OK
UID:e.1611.1419
SEQUENCE:3
DTSTAMP:20260420T172217Z
URL:https://portal.bixbychamber.com/events/details/2014-healthy-living-doctors-panel-08-15-2014-1419
END:VEVENT

END:VCALENDAR
