BEGIN:VCALENDAR
VERSION:2.0
PRODID:-//ChamberMaster//Event Calendar 2.0//EN
METHOD:PUBLISH
X-PUBLISHED-TTL:P3D
REFRESH-INTERVAL:P3D
CALSCALE:GREGORIAN
BEGIN:VEVENT
DTSTART:20141120T163000Z
DTEND:20141120T170000Z
X-MICROSOFT-CDO-ALLDAYEVENT:FALSE
SUMMARY:2014 Grand Opening- Microsoft Store
DESCRIPTION:Please join us for the Grand Opening as we welcome the Microsoft Store.
X-ALT-DESC;FMTTYPE=text/html:Please join us for the Grand Opening as we welcome the Microsoft Store.
LOCATION:Microsoft Woodland Hills Mall 7021 South Memorial Suite 123B Tulsa\, OK 74133
UID:e.1611.1464
SEQUENCE:3
DTSTAMP:20260420T134122Z
URL:https://portal.bixbychamber.com/events/details/2014-grand-opening-microsoft-store-11-20-2014-1464
END:VEVENT

END:VCALENDAR
