BEGIN:VCALENDAR
VERSION:2.0
PRODID:-//ChamberMaster//Event Calendar 2.0//EN
METHOD:PUBLISH
X-PUBLISHED-TTL:P3D
REFRESH-INTERVAL:P3D
CALSCALE:GREGORIAN
BEGIN:VEVENT
DTSTART:20140819T233000Z
DTEND:20140820T000000Z
X-MICROSOFT-CDO-ALLDAYEVENT:FALSE
SUMMARY:2014 Grand Opening and Ribbon Cutting for the Bixby Public Schools 9th Grade Center
DESCRIPTION:Please join us as Bixby Public Schools unveils their new 9th Grade Center.
X-ALT-DESC;FMTTYPE=text/html:Please join us as Bixby Public Schools unveils their new 9th Grade Center.
LOCATION:Bixby Public Schools 9th Grade Center Bixby High School Campus (North Side) 601 South Riverview Bixby\, OK 74008
UID:e.1611.1415
SEQUENCE:3
DTSTAMP:20260420T172733Z
URL:https://portal.bixbychamber.com/events/details/2014-grand-opening-and-ribbon-cutting-for-the-bixby-public-schools-9th-grade-center-08-19-2014-1415
END:VEVENT

END:VCALENDAR
