BEGIN:VCALENDAR
VERSION:2.0
PRODID:-//ChamberMaster//Event Calendar 2.0//EN
METHOD:PUBLISH
X-PUBLISHED-TTL:P3D
REFRESH-INTERVAL:P3D
CALSCALE:GREGORIAN
BEGIN:VEVENT
DTSTART;VALUE=DATE:20140922
DTEND;VALUE=DATE:20140923
TRANSP:TRANSPARENT
X-MICROSOFT-CDO-ALLDAYEVENT:TRUE
SUMMARY:2014 Golf Tournament
DESCRIPTION:The Chamber Classic provides an excellent opportunity to entertain clients and prospects in a casual and friendly way. Our tournament is a four man scramble with a shot gun start\, Golfers from the Bixby and Tulsa Metro Area businesses have a perfect opportunity to connect but most importantly have fun on the course. The event will begin with registration\, then we will hit the greens and end back at the clubhouse for an awards presentation\, lunch and prizes including cash and trophies\n\n\n\nClick Register Online above to sign up for a team or any of these sponsorships.\n\n \n\n	\n		\n			\n			Titanium  Sponsor \n\n			? 1 Foursome         \n\n			? Color Logo on Banner Displayed at Tournament\n\n			? 2 Color Logo Green Sponsor Signs \n\n			? Stage Recognition at  Lunch          \n\n			? Prominent Recognition on all PR/Marketing\n\n			? Lunch for 4           \n\n			? Placement of Promotional Item in Goody Bags\n\n			 \n			\n			$1\,200\n		\n		\n			\n			Platinum Sponsor \n\n			? 1 Foursome\n\n			? Breakfast and Lunch for all players\n\n			? 2 color logo green sponsorships\n\n			? Promotional item placement in goody bag (144)\n\n			? Prominent recognition on all PR/media\n\n			 \n			\n			$950\n		\n		\n			\n			Deluxe Team Sponsor \n\n			? 1 Foursome? Breakfast and Lunch for all players\n\n			? Color logo green sponsorship\n\n			? Promotional item placement in goody bag (144)\n\n			 \n			\n			$700\n		\n		\n			\n			Team of Four\n\n			? 1 Foursome\n\n			? Breakfast and Lunch for all players\n\n			 \n			\n			$550\n		\n		\n			\n			Drink Cart Sponsorship \n\n			? Color Logo Banners on Drink Carts to be mobile entirety of tournament\n\n			? Recognition on all PR/media\n\n			? Breakfast and Lunch for 2\n\n			? Promotional item placement in goody bag (144)\n\n			 \n			\n			$750\n		\n		\n			\n			Tee Box Sponsor \n\n			? Ability to place your business tent at designated tee box \n\n			? Breakfast and Lunch provided for 4 volunteers \n\n			? Promotional item placement in goody bag (144)\n\n			 \n			\n			$300\n		\n		\n			\n			Ball Sponsor \n\n			? Promote your business to every player with custom printed balls\n\n			? Sponsor provides sleeve of balls for each player (144)\n\n			 \n			\n			$500\n		\n		\n			\n			Green Sponsor\n\n			? Color logo green sponsor sign\n\n			? Promotional item placement in goody bag (144)\n\n			 \n			\n			$150\n		\n		\n			\n			Flag Sponsor \n\n			? Color logo on flag at hole\n\n			? Promotional item placement in goody bag (144)\n\n			 \n			\n			$150\n		\n		\n			\n			Individual Player \n\n			? Includes round of golf and lunch\n\n			 \n			\n			$150 \n		\n		\n			\n			Goody Bag Sponsor \n\n			? Promotional item placement in goody bag (144)\n\n			 \n			\n			$50\n		\n		\n			\n			Ball-n-Play Package \n\n			? Knock one stroke off your team?s total score\n\n			? 2 Mulligans\n\n			? Closest to pin on all par 3 holes\n\n			? Men & Women?s Longest Drive Contest\n\n			 \n			\n			$40 (per player)\n		\n		\n			\n			Ball Drop Tickets \n\n			? Only 250 tickets sold\n\n			? Winning ball receives $500\n\n			 \n			\n			$10\n		\n		\n			\n			Ball In Boat Contest \n\n			? Land your ball in the boat\n\n			? Winner receives 50% of pot\n\n			 \n			\n			$5\n		\n		\n			\n			President Putt \n\n			? Chamber President will putt for you on hole 9\n\n			? Putt made or not counts as made in one stroke\n			\n			$5\n		\n	\n\n\n\nClick Register Online above to sign up for a team or any of these sponsorships.
X-ALT-DESC;FMTTYPE=text/html:The Chamber Classic provides an excellent opportunity to entertain clients and prospects in a casual and friendly way. Our tournament is a four man scramble with a shot gun start\, Golfers from the Bixby and Tulsa Metro Area businesses have a perfect opportunity to connect but most importantly have fun on the course. The event will begin with registration\, then we will hit the greens and end back at the clubhouse for an awards presentation\, lunch and prizes including cash and trophies<br />\n<br />\n<strong>Click Register Online above to sign up for a team or any of these sponsorships.</strong><br />\n&nbsp\;\n<table border="0" cellpadding="1" cellspacing="1" style="width: 500px\;">\n	<tbody>\n		<tr>\n			<td style="vertical-align: top\;">\n			<div><strong>Titanium &nbsp\;Sponsor<span class="Apple-tab-span" style="white-space:pre"> </span></strong></div>\n\n			<div>? 1 Foursome &nbsp\; &nbsp\; &nbsp\; &nbsp\;&nbsp\;</div>\n\n			<div>? Color Logo on Banner Displayed at Tournament</div>\n\n			<div>? 2 Color Logo Green Sponsor Signs&nbsp\;</div>\n\n			<div>? Stage Recognition at &nbsp\;Lunch &nbsp\; &nbsp\; &nbsp\; &nbsp\; &nbsp\;</div>\n\n			<div>? Prominent Recognition on all PR/Marketing</div>\n\n			<div>? Lunch for 4 &nbsp\; &nbsp\; &nbsp\; &nbsp\; &nbsp\;&nbsp\;</div>\n\n			<div>? Placement of Promotional Item in Goody Bags</div>\n\n			<div>&nbsp\;</div>\n			</td>\n			<td style="vertical-align: top\;"><strong>$1\,200</strong></td>\n		</tr>\n		<tr>\n			<td style="vertical-align: top\;">\n			<div><strong>Platinum Sponsor<span class="Apple-tab-span" style="white-space:pre"> </span></strong></div>\n\n			<div>? 1 Foursome</div>\n\n			<div>? Breakfast and Lunch for all players</div>\n\n			<div>? 2 color logo green sponsorships</div>\n\n			<div>? Promotional item placement in goody bag (144)</div>\n\n			<div>? Prominent recognition on all PR/media<br />\n			&nbsp\;</div>\n			</td>\n			<td style="vertical-align: top\;"><strong>$950</strong></td>\n		</tr>\n		<tr>\n			<td style="vertical-align: top\;">\n			<div><strong>Deluxe Team Sponsor<span class="Apple-tab-span" style="white-space:pre"> </span></strong></div>\n\n			<div>? 1 Foursome? Breakfast and Lunch for all players</div>\n\n			<div>? Color logo green sponsorship</div>\n\n			<div>? Promotional item placement in goody bag (144)<br />\n			&nbsp\;</div>\n			</td>\n			<td style="vertical-align: top\;"><strong>$700</strong></td>\n		</tr>\n		<tr>\n			<td style="vertical-align: top\;">\n			<div><strong>Team of Four</strong></div>\n\n			<div>? 1 Foursome</div>\n\n			<div>? Breakfast and Lunch for all players<br />\n			&nbsp\;</div>\n			</td>\n			<td style="vertical-align: top\;"><strong>$550</strong></td>\n		</tr>\n		<tr>\n			<td style="vertical-align: top\;">\n			<div><strong>Drink Cart Sponsorship<span class="Apple-tab-span" style="white-space:pre"> </span></strong></div>\n\n			<div>? Color Logo Banners on Drink Carts to be mobile entirety of tournament</div>\n\n			<div>? Recognition on all PR/media</div>\n\n			<div>? Breakfast and Lunch for 2</div>\n\n			<div>? Promotional item placement in goody bag (144)<br />\n			&nbsp\;</div>\n			</td>\n			<td style="vertical-align: top\;"><strong>$750</strong></td>\n		</tr>\n		<tr>\n			<td style="vertical-align: top\;">\n			<div><strong>Tee Box Sponsor<span class="Apple-tab-span" style="white-space:pre"> </span></strong></div>\n\n			<div>? Ability to place your business tent at designated tee box&nbsp\;</div>\n\n			<div>? Breakfast and Lunch provided for 4 volunteers&nbsp\;</div>\n\n			<div>? Promotional item placement in goody bag (144)<br />\n			&nbsp\;</div>\n			</td>\n			<td style="vertical-align: top\;"><strong>$300</strong></td>\n		</tr>\n		<tr>\n			<td style="vertical-align: top\;">\n			<div><strong>Ball Sponsor<span class="Apple-tab-span" style="white-space:pre"> </span></strong></div>\n\n			<div>? Promote your business to every player with custom printed balls</div>\n\n			<div>? Sponsor provides sleeve of balls for each player (144)<br />\n			&nbsp\;</div>\n			</td>\n			<td style="vertical-align: top\;"><strong>$500</strong></td>\n		</tr>\n		<tr>\n			<td style="vertical-align: top\;">\n			<div><strong>Green Sponsor</strong></div>\n\n			<div>? Color logo green sponsor sign</div>\n\n			<div>? Promotional item placement in goody bag (144)<br />\n			&nbsp\;</div>\n			</td>\n			<td style="vertical-align: top\;"><strong>$150</strong></td>\n		</tr>\n		<tr>\n			<td style="vertical-align: top\;">\n			<div><strong>Flag Sponsor<span class="Apple-tab-span" style="white-space:pre"> </span></strong></div>\n\n			<div>? Color logo on flag at hole</div>\n\n			<div>? Promotional item placement in goody bag (144)<br />\n			&nbsp\;</div>\n			</td>\n			<td style="vertical-align: top\;"><strong>$150</strong></td>\n		</tr>\n		<tr>\n			<td style="vertical-align: top\;">\n			<div><strong>Individual Player<span class="Apple-tab-span" style="white-space:pre"> </span></strong></div>\n\n			<div>? Includes round of golf and lunch<br />\n			&nbsp\;</div>\n			</td>\n			<td style="vertical-align: top\;"><strong>$150&nbsp\;</strong></td>\n		</tr>\n		<tr>\n			<td style="vertical-align: top\;">\n			<div><strong>Goody Bag Sponsor<span class="Apple-tab-span" style="white-space:pre"> </span></strong></div>\n\n			<div>? Promotional item placement in goody bag (144)<br />\n			&nbsp\;</div>\n			</td>\n			<td style="vertical-align: top\;"><strong>$50</strong></td>\n		</tr>\n		<tr>\n			<td style="vertical-align: top\;">\n			<div><strong>Ball-n-Play Package<span class="Apple-tab-span" style="white-space:pre"> </span></strong></div>\n\n			<div>? Knock one stroke off your team?s total score</div>\n\n			<div>? 2 Mulligans</div>\n\n			<div>? Closest to pin on all par 3 holes</div>\n\n			<div>? Men &amp\; Women?s Longest Drive Contest<br />\n			&nbsp\;</div>\n			</td>\n			<td style="vertical-align: top\;"><strong>$40 (per player)</strong></td>\n		</tr>\n		<tr>\n			<td style="vertical-align: top\;">\n			<div><strong>Ball Drop Tickets<span class="Apple-tab-span" style="white-space:pre"> </span></strong></div>\n\n			<div>? Only 250 tickets sold</div>\n\n			<div>? Winning ball receives $500<br />\n			&nbsp\;</div>\n			</td>\n			<td style="vertical-align: top\;"><strong>$10</strong></td>\n		</tr>\n		<tr>\n			<td style="vertical-align: top\;">\n			<div><strong>Ball In Boat Contest<span class="Apple-tab-span" style="white-space:pre"> </span></strong></div>\n\n			<div>? Land your ball in the boat</div>\n\n			<div>? Winner receives 50% of pot<br />\n			&nbsp\;</div>\n			</td>\n			<td style="vertical-align: top\;"><strong>$5</strong></td>\n		</tr>\n		<tr>\n			<td style="vertical-align: top\;">\n			<div><strong>President Putt<span class="Apple-tab-span" style="white-space:pre"> </span></strong></div>\n\n			<div>? Chamber President will putt for you on hole 9</div>\n\n			<div>? Putt made or not counts as made in one stroke</div>\n			</td>\n			<td style="vertical-align: top\;"><strong>$5</strong></td>\n		</tr>\n	</tbody>\n</table>\n<br />\n<strong>Click Register Online above to sign up for a team or any of these sponsorships.</strong>
LOCATION:MeadowBrook Country Club
UID:e.1611.1314
SEQUENCE:3
DTSTAMP:20260420T160340Z
URL:https://portal.bixbychamber.com/events/details/2014-golf-tournament-09-22-2014-1314
END:VEVENT

END:VCALENDAR
