BEGIN:VCALENDAR
VERSION:2.0
PRODID:-//ChamberMaster//Event Calendar 2.0//EN
METHOD:PUBLISH
X-PUBLISHED-TTL:P3D
REFRESH-INTERVAL:P3D
CALSCALE:GREGORIAN
BEGIN:VEVENT
DTSTART:20140405T160000Z
DTEND:20140405T200000Z
X-MICROSOFT-CDO-ALLDAYEVENT:FALSE
SUMMARY:2014 Girls Day Out at Euphoria Spa and Salon
DESCRIPTION:Origami Owl - Younique - Jamberry - It Works - Vault Denim - Pampered Chef - Damsel in Defense - Scentsy - Velata - In a Pikle - Thirty-One \n\n\n\nBring your mom\, bring your little girls\, bring your friends\, bring your friends moms!! We are having a GIRLS DAY OUT at the FABULOUS Euphoria Spa & Salon!!! Come see what all the TALK is about and enjoy some of the BEST DIRECT SALES LINES on the MARKET. The trendiest stuff in TOWN will be there Saturday\, April 5! Message me for more info.
X-ALT-DESC;FMTTYPE=text/html:<span style="color: rgb(20\, 24\, 35)\; font-family: Helvetica\, Arial\, 'lucida grande'\, tahoma\, verdana\, arial\, sans-serif\; font-size: 13.63636302947998px\; line-height: 16.290908813476563px\;">Origami Owl - Younique - Jamberry - It Works - Vault Denim - Pampered Chef - Damsel in Defense - Scentsy - Velata - In a Pikle - Thirty-One&nbsp\;</span><br style="color: rgb(20\, 24\, 35)\; font-family: Helvetica\, Arial\, 'lucida grande'\, tahoma\, verdana\, arial\, sans-serif\; font-size: 13.63636302947998px\; line-height: 16.290908813476563px\;" />\n<br style="color: rgb(20\, 24\, 35)\; font-family: Helvetica\, Arial\, 'lucida grande'\, tahoma\, verdana\, arial\, sans-serif\; font-size: 13.63636302947998px\; line-height: 16.290908813476563px\;" />\n<span style="color: rgb(20\, 24\, 35)\; font-family: Helvetica\, Arial\, 'lucida grande'\, tahoma\, verdana\, arial\, sans-serif\; font-size: 13.63636302947998px\; line-height: 16.290908813476563px\;">Bring your mom\, bring your little girls\, bring your friends\, bring your friends moms!! We are having a GIRLS DAY OUT at the FABULOUS Euphoria Spa &amp\; Salon!!! Come see what all th</span><span class="text_exposed_show" style="display: inline\; color: rgb(20\, 24\, 35)\; font-family: Helvetica\, Arial\, 'lucida grande'\, tahoma\, verdana\, arial\, sans-serif\; font-size: 13.63636302947998px\; line-height: 16.290908813476563px\;">e TALK is about and enjoy some of the BEST DIRECT SALES LINES on the MARKET. The trendiest stuff in TOWN will be there Saturday\, April 5! Message me for more info.</span>
LOCATION:Euphoria Spa and Salon 11015 South Memorial Drive Tulsa\, OK 74133
UID:e.1611.1351
SEQUENCE:3
DTSTAMP:20260421T001257Z
URL:https://portal.bixbychamber.com/events/details/2014-girls-day-out-at-euphoria-spa-and-salon-04-05-2014-1351
END:VEVENT

END:VCALENDAR
