BEGIN:VCALENDAR
VERSION:2.0
PRODID:-//ChamberMaster//Event Calendar 2.0//EN
METHOD:PUBLISH
X-PUBLISHED-TTL:P3D
REFRESH-INTERVAL:P3D
CALSCALE:GREGORIAN
BEGIN:VEVENT
DTSTART:20140412T153000Z
DTEND:20140412T170000Z
X-MICROSOFT-CDO-ALLDAYEVENT:FALSE
SUMMARY:2014 Free Community Paper Shred Day
DESCRIPTION:IDENTITY THEFT IS AN ONGOING CRIME THAT AFFECTS THOUSANDS OF OKLAHOMANS EVERY YEAR. THE BEST WAY TO NOT FALL VICTIM IS TO PROPERLY DISPOSE OF PERSONAL INFORMATION.\n\n \n\nWESTERN SUN FEDERAL CREDIT UNION WILL HOST ITS SEVENTH ANNUAL FREE COMMUNITY SHRED DAY ON SATURDAY\, APRIL 12th  FROM 10:30 AM TO 12:00 PM.  ALL DOCUMENTS WILL BE SHREDDED ON SITE.  STOP BY WESTERN SUN'S SOUTHEAST TULSA LOCATION\, AT 4620 WEST KENOSHA JUST EAST OF GARNETT ON 71ST STREET TO PROPERLY DESTROY YOUR DOCUMENTS.\n\nLIMIT OF FOUR LARGE BOXES PER PERSON PLEASE.
X-ALT-DESC;FMTTYPE=text/html:IDENTITY THEFT IS AN ONGOING CRIME THAT AFFECTS THOUSANDS OF OKLAHOMANS EVERY YEAR. THE BEST WAY TO NOT FALL VICTIM IS TO PROPERLY DISPOSE OF PERSONAL INFORMATION.<br />\n&nbsp\;<br />\nWESTERN SUN FEDERAL CREDIT UNION WILL HOST ITS SEVENTH ANNUAL FREE COMMUNITY SHRED DAY ON SATURDAY\, APRIL 12th &nbsp\;FROM 10:30 AM TO 12:00 PM.&nbsp\; ALL DOCUMENTS WILL BE SHREDDED ON SITE.&nbsp\; STOP BY WESTERN SUN&rsquo\;S SOUTHEAST TULSA LOCATION\, AT 4620 WEST KENOSHA JUST EAST OF GARNETT ON 71<sup>ST</sup> STREET TO PROPERLY DESTROY YOUR DOCUMENTS.<br />\nLIMIT OF FOUR LARGE BOXES PER PERSON PLEASE.
LOCATION:4620 WEST KENOSHA JUST EAST OF GARNETT ON 71ST STREET
UID:e.1611.1355
SEQUENCE:3
DTSTAMP:20260420T225323Z
URL:https://portal.bixbychamber.com/events/details/2014-free-community-paper-shred-day-04-12-2014-1355
END:VEVENT

END:VCALENDAR
