BEGIN:VCALENDAR
VERSION:2.0
PRODID:-//ChamberMaster//Event Calendar 2.0//EN
METHOD:PUBLISH
X-PUBLISHED-TTL:P3D
REFRESH-INTERVAL:P3D
CALSCALE:GREGORIAN
BEGIN:VEVENT
DTSTART:20140510T130000Z
DTEND:20140510T170000Z
X-MICROSOFT-CDO-ALLDAYEVENT:FALSE
SUMMARY:2014 Fishing Derby
DESCRIPTION:Bring your own poles and bait! \n\nPrizes for the largest fish for age groups 2-5\, 6-11\, 12-15
X-ALT-DESC;FMTTYPE=text/html:<p>Bring your own poles and bait!&nbsp\;</p>\n\n<p>Prizes for the largest fish for age groups 2-5\, 6-11\, 12-15</p>\n
LOCATION:Lake Bixhoma
UID:e.1611.1380
SEQUENCE:3
DTSTAMP:20260420T213834Z
URL:https://portal.bixbychamber.com/events/details/2014-fishing-derby-05-10-2014-1380
END:VEVENT

END:VCALENDAR
