BEGIN:VCALENDAR
VERSION:2.0
PRODID:-//ChamberMaster//Event Calendar 2.0//EN
METHOD:PUBLISH
X-PUBLISHED-TTL:P3D
REFRESH-INTERVAL:P3D
CALSCALE:GREGORIAN
BEGIN:VEVENT
DTSTART:20140212T180000Z
DTEND:20140212T190000Z
X-MICROSOFT-CDO-ALLDAYEVENT:FALSE
SUMMARY:2014 Firstar Bank Ribbon Cutting
DESCRIPTION:Firstar Bank Ribbon Cutting with  Bixby\, Jenks\, Tulsa\, and the Tulsa Hispanic Chamber.\n\nLunch will be provided.
X-ALT-DESC;FMTTYPE=text/html:<span style="font-size:12px\;"><span style="font-family:arial\;">Firstar Bank&nbsp\;Ribbon Cutting with&nbsp\;&nbsp\;Bixby\, Jenks\, Tulsa\, and the Tulsa Hispanic Chamber.</span></span><br />\nLunch will be provided. &nbsp\;
LOCATION:9696 East 101st Street Tulsa\, OK 74133
UID:e.1611.1321
SEQUENCE:3
DTSTAMP:20260421T011724Z
URL:https://portal.bixbychamber.com/events/details/2014-firstar-bank-ribbon-cutting-02-12-2014-1321
END:VEVENT

END:VCALENDAR
