BEGIN:VCALENDAR
VERSION:2.0
PRODID:-//ChamberMaster//Event Calendar 2.0//EN
METHOD:PUBLISH
X-PUBLISHED-TTL:P3D
REFRESH-INTERVAL:P3D
CALSCALE:GREGORIAN
BEGIN:VEVENT
DTSTART:20140513T163000Z
DTEND:20140513T163000Z
X-MICROSOFT-CDO-ALLDAYEVENT:FALSE
SUMMARY:2014 Financial Wellness Workshop - Lunch and Learn
DESCRIPTION:Financial Wellness \n\nWorkshop\n\n  How do I build a solid financial house?\n\n  How do I pay off my debt years sooner?\n\n  What are the three Ds of investing\, and how do they work?\n\n  How does my life insurance policy really work?\n\n  Why do people own financial products\, but not have a strategy?\n\n\n\nYou and/or your employees might be asking these very questions. Join us for a brief lunch and learn and get some basics.  \n\n\n\nBring a lunch. Dessert will be provided.
X-ALT-DESC;FMTTYPE=text/html:Financial Wellness&nbsp\;<br />\nWorkshop<br />\n&bull\; How do I build a solid financial house?<br />\n&bull\; How do I pay off my debt years sooner?<br />\n&bull\; What are the three Ds of investing\, and how do they work?<br />\n&bull\; How does my life insurance policy really work?<br />\n&bull\; Why do people own financial products\, but not have a strategy?<br />\n<br />\nYou and/or your employees might be asking these very questions. Join us for a brief lunch and learn and get some basics. &nbsp\;<br />\n<br />\nBring a lunch. Dessert will be provided.
LOCATION:5840 S Memorial Drive NW corner of Shadow Mountain Office Center
UID:e.1611.1376
SEQUENCE:3
DTSTAMP:20260420T213836Z
URL:https://portal.bixbychamber.com/events/details/2014-financial-wellness-workshop-lunch-and-learn-05-13-2014-1376
END:VEVENT

END:VCALENDAR
