BEGIN:VCALENDAR
VERSION:2.0
PRODID:-//ChamberMaster//Event Calendar 2.0//EN
METHOD:PUBLISH
X-PUBLISHED-TTL:P3D
REFRESH-INTERVAL:P3D
CALSCALE:GREGORIAN
BEGIN:VEVENT
DTSTART:20140206T213000Z
DTEND:20140206T230000Z
X-MICROSOFT-CDO-ALLDAYEVENT:FALSE
SUMMARY:2014 February Get To Know Your Chamber
DESCRIPTION:This reception give all Partners an opportunity to learn about the Bixby Metro Chamber\, our programs\, Partners benefits and ways the Chamber can help brand your business. The reception is open to not only New Partners to the Chamber but also existing Partners looking for ways to get more involved\, promote their business and to welcome other Partners.
X-ALT-DESC;FMTTYPE=text/html:This reception give all Partners an opportunity to learn about the Bixby Metro Chamber\, our programs\, Partners benefits and ways the Chamber can help brand your business. The reception is open to not only New Partners to the Chamber but also existing Partners looking for ways to get more involved\, promote their business and to welcome other Partners.&nbsp\;
LOCATION:Hampton Inn 8220 East Regal Place\, Tulsa\, OK 74133
UID:e.1611.1260
SEQUENCE:3
DTSTAMP:20260421T011830Z
URL:https://portal.bixbychamber.com/events/details/2014-february-get-to-know-your-chamber-02-06-2014-1260
END:VEVENT

END:VCALENDAR
