BEGIN:VCALENDAR
VERSION:2.0
PRODID:-//ChamberMaster//Event Calendar 2.0//EN
METHOD:PUBLISH
X-PUBLISHED-TTL:P3D
REFRESH-INTERVAL:P3D
CALSCALE:GREGORIAN
BEGIN:VEVENT
DTSTART:20140207T134500Z
DTEND:20140207T150000Z
X-MICROSOFT-CDO-ALLDAYEVENT:FALSE
SUMMARY:2014 February Coffee & Commerce
DESCRIPTION:Coffee & Commerce is an opportunity for our partners to be able to communicate with our legislators in a more personal setting.  We are inviting all legislators in our area who are able to attend for this breakfast event to discuss with our Partners the items that matter to them.
X-ALT-DESC;FMTTYPE=text/html:<span style="font-size:12px\;"><span style="font-family:arial\;"><span style="color:black\;">Coffee &amp\; Commerce is an opportunity for our partners to be able to communicate with our legislators in a more personal setting. &nbsp\;We are inviting all&nbsp\;legislators in our area who are able to attend for this breakfast event to discuss with our Partners the items that matter to them.</span></span></span><br />\n&nbsp\;
LOCATION:Bixby Metro Chamber Board Room
UID:e.1611.1261
SEQUENCE:3
DTSTAMP:20260421T011205Z
URL:https://portal.bixbychamber.com/events/details/2014-february-coffee-commerce-02-07-2014-1261
END:VEVENT

END:VCALENDAR
