BEGIN:VCALENDAR
VERSION:2.0
PRODID:-//ChamberMaster//Event Calendar 2.0//EN
METHOD:PUBLISH
X-PUBLISHED-TTL:P3D
REFRESH-INTERVAL:P3D
CALSCALE:GREGORIAN
BEGIN:VEVENT
DTSTART:20141016T150000Z
DTEND:20141016T190000Z
X-MICROSOFT-CDO-ALLDAYEVENT:FALSE
SUMMARY:2014 FALL JOB FAIR
DESCRIPTION:Dress for success as you meet potential employers.\n\nDon't forget to bring your resume!
X-ALT-DESC;FMTTYPE=text/html:Dress for success as you meet potential employers.<br />\nDon&#39\;t forget to bring your resume!
LOCATION:Eastgate Metroplex 14002 East 21st Street Tulsa\, OK
UID:e.1611.1448
SEQUENCE:3
DTSTAMP:20260420T144547Z
URL:https://portal.bixbychamber.com/events/details/2014-fall-job-fair-10-16-2014-1448
END:VEVENT

END:VCALENDAR
