BEGIN:VCALENDAR
VERSION:2.0
PRODID:-//ChamberMaster//Event Calendar 2.0//EN
METHOD:PUBLISH
X-PUBLISHED-TTL:P3D
REFRESH-INTERVAL:P3D
CALSCALE:GREGORIAN
BEGIN:VEVENT
DTSTART:20141107T173000Z
DTEND:20141107T183000Z
X-MICROSOFT-CDO-ALLDAYEVENT:FALSE
SUMMARY:2014 Entourage Coaching Offers Free Book Study for Entrepreneurial Women
DESCRIPTION:Are you a woman operating your own business? If so\, this book study may be something you need! Erin Garcia\, owner of Entourage Coaching\, is offering a free book study on Fridays. The study features Valorie Burton's book\, "Successful Women Think Differently: 9 Habits to Make You Happier\, Healthier\, and More Resilient." Participants should brown bag their lunch and purchase their own book.
X-ALT-DESC;FMTTYPE=text/html:Are you a woman operating your own business? If so\, this book study may be something you need! Erin Garcia\, owner of Entourage Coaching\, is offering a free book study on Fridays. The study features Valorie Burton&rsquo\;s book\, &ldquo\;Successful Women Think Differently: 9 Habits to Make You Happier\, Healthier\, and More Resilient.&rdquo\; Participants should brown bag their lunch and purchase their own book.
LOCATION:13161 South Memorial Drive Bixby\, OK 74008
UID:e.1611.1447
SEQUENCE:3
DTSTAMP:20260420T134632Z
URL:https://portal.bixbychamber.com/events/details/2014-entourage-coaching-offers-free-book-study-for-entrepreneurial-women-11-07-2014-1447
END:VEVENT

END:VCALENDAR
